BEGIN:VCALENDAR
VERSION:2.0
PRODID:-//Prospects - ECPv5.14.1//NONSGML v1.0//EN
CALSCALE:GREGORIAN
METHOD:PUBLISH
X-WR-CALNAME:Prospects
X-ORIGINAL-URL:https://prospectsfoundation.org.uk
X-WR-CALDESC:Events for Prospects
BEGIN:VTIMEZONE
TZID:Europe/London
BEGIN:DAYLIGHT
TZOFFSETFROM:+0000
TZOFFSETTO:+0100
TZNAME:BST
DTSTART:20230326T010000
END:DAYLIGHT
BEGIN:STANDARD
TZOFFSETFROM:+0100
TZOFFSETTO:+0000
TZNAME:GMT
DTSTART:20231029T010000
END:STANDARD
END:VTIMEZONE
BEGIN:VEVENT
DTSTART;TZID=Europe/London:20231107T100000
DTEND;TZID=Europe/London:20231107T150000
DTSTAMP:20260422T231451
CREATED:20231030T133609Z
LAST-MODIFIED:20231030T133609Z
UID:10569-1699351200-1699369200@prospectsfoundation.org.uk
SUMMARY:Whinney Hill  - Hyndburn's Woodlands
DESCRIPTION:Join the Hyndburn’s Woodlands Volunteers for weekly practical conservation sessions. \nThis week\, we will be back at Whinney Hill woodland carrying out a litter pick and removing fly-tipping that has built up in the area. \nTools\, gloves and PPE will be provided. Please wear sturdy boots\, long sleeves and full length trousers as we may be working around brambles and nettles. Waterproofs may be needed\, depending on the weather. \nWe will be meeting at the end of Thorneyholme Road\, Accrington\, BB5 5FW. There is on-street parking available. Staff will be in orange hi-vis. \nTo find out more or confirm your attendance\, please contact Brandon at brandon.cherry@prospectsfoundation.org.uk or 07733 840842 \n\nWhinney Hill  – Hyndburn’s Woodlands
URL:https://prospectsfoundation.org.uk/event/whinney-hill-hyndburns-woodlands-15/
LOCATION:Whinney Hill Woodland – Thorneyholme Road Entrance\, 2 David Lloyd Way\, Accrington\, BB5 5FW
CATEGORIES:Health and wellbeing,Outdoor Learning,Volunteering,Woodlands
ATTACH;FMTTYPE=image/jpeg:https://prospectsfoundation.org.uk/wp-content/uploads/2023/10/LitterPick.jpg
ORGANIZER;CN="Brandon%20Cherry":MAILTO:brandon.cherry@prospectsfoundation.org.uk
END:VEVENT
END:VCALENDAR