BEGIN:VCALENDAR
VERSION:2.0
PRODID:-//Prospects - ECPv5.14.1//NONSGML v1.0//EN
CALSCALE:GREGORIAN
METHOD:PUBLISH
X-WR-CALNAME:Prospects
X-ORIGINAL-URL:https://prospectsfoundation.org.uk
X-WR-CALDESC:Events for Prospects
BEGIN:VTIMEZONE
TZID:Europe/London
BEGIN:DAYLIGHT
TZOFFSETFROM:+0000
TZOFFSETTO:+0100
TZNAME:BST
DTSTART:20230326T010000
END:DAYLIGHT
BEGIN:STANDARD
TZOFFSETFROM:+0100
TZOFFSETTO:+0000
TZNAME:GMT
DTSTART:20231029T010000
END:STANDARD
END:VTIMEZONE
BEGIN:VEVENT
DTSTART;TZID=Europe/London:20231125T100000
DTEND;TZID=Europe/London:20231125T130000
DTSTAMP:20260422T053306
CREATED:20231031T152635Z
LAST-MODIFIED:20231031T153037Z
UID:10657-1700906400-1700917200@prospectsfoundation.org.uk
SUMMARY:Whinney Hill Helpers - Family Friendly Volunteering
DESCRIPTION:Join us for a new project on the last Saturday of every month\, our Woodlands Officer\, Brandon Cherry will be running volunteer sessions with the aim of connecting locals to an amazing woodland right on their doorstep! Tasks may include tree thinning\, making access improvements\, removing invasive species\, litter picking and much more! \nPerfect for families\, children must be accompanied by an adult. \nContact Brandon: brandon.cherry@prospectsfoundation.org.uk to find out more or book a place. \nWhinney Hill Helpers – Family Friendly Volunteering
URL:https://prospectsfoundation.org.uk/event/whinney-hill-helpers-family-friendly-volunteering/
LOCATION:Whinney Hill Woodland – Thorneyholme Road\, Thorneyholme Road\, Accrington\, BB5 5BB\, United Kingdom
CATEGORIES:Conservation,Family,Health and wellbeing,Volunteering,Walking,Woodlands
END:VEVENT
END:VCALENDAR