BEGIN:VCALENDAR
VERSION:2.0
PRODID:-//Prospects - ECPv5.14.1//NONSGML v1.0//EN
CALSCALE:GREGORIAN
METHOD:PUBLISH
X-WR-CALNAME:Prospects
X-ORIGINAL-URL:https://prospectsfoundation.org.uk
X-WR-CALDESC:Events for Prospects
BEGIN:VTIMEZONE
TZID:Europe/London
BEGIN:DAYLIGHT
TZOFFSETFROM:+0000
TZOFFSETTO:+0100
TZNAME:BST
DTSTART:20210328T010000
END:DAYLIGHT
BEGIN:STANDARD
TZOFFSETFROM:+0100
TZOFFSETTO:+0000
TZNAME:GMT
DTSTART:20211031T010000
END:STANDARD
END:VTIMEZONE
BEGIN:VEVENT
DTSTART;TZID=Europe/London:20210915T170000
DTEND;TZID=Europe/London:20210915T190000
DTSTAMP:20260422T182058
CREATED:20210907T133135Z
LAST-MODIFIED:20210907T133135Z
UID:5619-1631725200-1631732400@prospectsfoundation.org.uk
SUMMARY:Wellbeing Wednesday
DESCRIPTION:Improve your wellbeing by connecting with nature at our monthly evenings.  Each month we will destress by exploring a different activity connected to nature.  This month’s activity is Nature Sketching. \nDate:  Wed 15th September \nTime:  5pm-7pm \nLocation:  Growing Wild Community Allotment\, Baxenden Allotments\, Hill Street\, Baxenden BB5 2RA \nWhat 3 Words:  tram.positions.later \nTo book a place\, email Danielle at danielle.rowlands@prospectsfoundation.org.uk \n \nWellbeing Wednesday
URL:https://prospectsfoundation.org.uk/event/wellbeing-wednesday/
LOCATION:GrOwING WILD Community Allotment\, Hill Street\, Baxenden\, BB5 2RB\, United Kingdom
CATEGORIES:Outdoor Learning
ORGANIZER;CN="Danielle%20Rowlands%2C%20Outdoor%20Learning%20Officer":MAILTO:danielle.rowlands@prospectsfoundation.org.uk
END:VEVENT
END:VCALENDAR