BEGIN:VCALENDAR
VERSION:2.0
PRODID:-//Prospects - ECPv5.14.1//NONSGML v1.0//EN
CALSCALE:GREGORIAN
METHOD:PUBLISH
X-WR-CALNAME:Prospects
X-ORIGINAL-URL:https://prospectsfoundation.org.uk
X-WR-CALDESC:Events for Prospects
BEGIN:VTIMEZONE
TZID:Europe/London
BEGIN:DAYLIGHT
TZOFFSETFROM:+0000
TZOFFSETTO:+0100
TZNAME:BST
DTSTART:20230326T010000
END:DAYLIGHT
BEGIN:STANDARD
TZOFFSETFROM:+0100
TZOFFSETTO:+0000
TZNAME:GMT
DTSTART:20231029T010000
END:STANDARD
END:VTIMEZONE
BEGIN:VEVENT
DTSTART;TZID=Europe/London:20230829T130000
DTEND;TZID=Europe/London:20230829T143000
DTSTAMP:20260425T181626
CREATED:20230727T145657Z
LAST-MODIFIED:20230727T145657Z
UID:10239-1693314000-1693319400@prospectsfoundation.org.uk
SUMMARY:Weekly Butterfly Survey at Peel Park and the Coppice LNR
DESCRIPTION:Join us every Tuesday until the end of September for our weekly butterfly monitoring surveys as part of the UKBMS – one of the longest running insect monitoring schemes in the world! \nThe guided walk will be led by our Project Officer\, Robert Gabryszak and will involve a gentle stroll around Peel Park and the Coppice LNR recording all of the butterfly species that we see. Don’t worry if you have no knowledge on UK butterfly’s – we have guides and will provide some tips and tricks that will make you an expert in no time! \nWe will be meeting at the Bowling Green Car Park\, off the top of Peel Park Avenue\, BB5 6HL. Staff will be wearing orange high-vis. \nAll ages welcome\, under 18’s must be accompanied by an adult. The transect will take between 45 minutes and 1.5 hours to walk. The surveys are weather permitting\, so please be aware they may be cancelled if it is forecast rain or high winds. \nFor more info or to confirm your attendance\, please contact robert.gabryszak@prospectsfoundation.org.uk telephone 01254 230348\, or call into the Prospects office at 54 Broadway\, Accrington\, BB5 1EW \nWeekly Butterfly Survey at Peel Park and the Coppice LNR
URL:https://prospectsfoundation.org.uk/event/weekly-butterfly-survey-at-peel-park-and-the-coppice-lnr-15/
LOCATION:Peel Park and the Coppice Local Nature Reserve\, Main car park off Peel Park Avenue (next to the bowling green)\, Accrington\, Lancashire\, BB5 6HL\, United Kingdom
CATEGORIES:Conservation,Family,Health and wellbeing,Outdoor Learning,Peel Park and the Coppice LNR,Volunteering,Walking,Woodlands
ATTACH;FMTTYPE=image/jpeg:https://prospectsfoundation.org.uk/wp-content/uploads/2023/06/20220727_134331-scaled-e1688133856901.jpg
ORGANIZER;CN="Chloe%20Jameson":MAILTO:chloe.jameson@prospectsfoundation.org.uk
END:VEVENT
END:VCALENDAR