BEGIN:VCALENDAR
VERSION:2.0
PRODID:-//Prospects - ECPv5.14.1//NONSGML v1.0//EN
CALSCALE:GREGORIAN
METHOD:PUBLISH
X-WR-CALNAME:Prospects
X-ORIGINAL-URL:https://prospectsfoundation.org.uk
X-WR-CALDESC:Events for Prospects
BEGIN:VTIMEZONE
TZID:Europe/London
BEGIN:DAYLIGHT
TZOFFSETFROM:+0000
TZOFFSETTO:+0100
TZNAME:BST
DTSTART:20220327T010000
END:DAYLIGHT
BEGIN:STANDARD
TZOFFSETFROM:+0100
TZOFFSETTO:+0000
TZNAME:GMT
DTSTART:20221030T010000
END:STANDARD
END:VTIMEZONE
BEGIN:VEVENT
DTSTART;TZID=Europe/London:20220310T100000
DTEND;TZID=Europe/London:20220310T150000
DTSTAMP:20260422T185529
CREATED:20220218T112057Z
LAST-MODIFIED:20220218T112057Z
UID:6743-1646906400-1646924400@prospectsfoundation.org.uk
SUMMARY:Warcocks Green - Hyndburn's woodlands
DESCRIPTION:Join Gareth and the Habitats & Heritage volunteers in Warcocks Green woodland for a day of practical environmental conservation! \nContact Gareth – gareth.muir@prospectsfoundation.org.uk for more information and to join in! \nWarcocks Green – Hyndburn’s woodlands
URL:https://prospectsfoundation.org.uk/event/warcocks-green-hyndburns-woodlands/
LOCATION:Warcocks Green\, Haslingden Old Road/Sough Lane\, Oswaldtwistle\, Lancashire\, BB5 3RG\, United Kingdom
CATEGORIES:Conservation,Volunteering,Woodlands
END:VEVENT
END:VCALENDAR