BEGIN:VCALENDAR
VERSION:2.0
PRODID:-//Prospects - ECPv5.14.1//NONSGML v1.0//EN
CALSCALE:GREGORIAN
METHOD:PUBLISH
X-WR-CALNAME:Prospects
X-ORIGINAL-URL:https://prospectsfoundation.org.uk
X-WR-CALDESC:Events for Prospects
BEGIN:VTIMEZONE
TZID:Europe/London
BEGIN:DAYLIGHT
TZOFFSETFROM:+0000
TZOFFSETTO:+0100
TZNAME:BST
DTSTART:20220327T010000
END:DAYLIGHT
BEGIN:STANDARD
TZOFFSETFROM:+0100
TZOFFSETTO:+0000
TZNAME:GMT
DTSTART:20221030T010000
END:STANDARD
END:VTIMEZONE
BEGIN:VEVENT
DTSTART;TZID=Europe/London:20220714T100000
DTEND;TZID=Europe/London:20220714T130000
DTSTAMP:20260422T203030
CREATED:20220620T103536Z
LAST-MODIFIED:20220620T103536Z
UID:7406-1657792800-1657803600@prospectsfoundation.org.uk
SUMMARY:Warcocks Green - Hyndburn's Woodlands
DESCRIPTION:Join Gareth and the Woodland Volunteers at Warcock Green for a day of Practical Environmental Conservation! \nThe session will focus on non-native species management of Himalayan Balsam. \nTo get involved please email Gareth – gareth.muir@prospectsfoundation.org.uk or phone 01254 230348 \nWarcocks Green – Hyndburn’s Woodlands
URL:https://prospectsfoundation.org.uk/event/warcocks-green-hyndburns-woodlands-2/
LOCATION:Warcocks Green\, Haslingden Old Road/Sough Lane\, Oswaldtwistle\, Lancashire\, BB5 3RG\, United Kingdom
CATEGORIES:Conservation,Volunteering,Woodlands
ORGANIZER;CN="Gareth%20Muir%20-%20Woodlands%20Officer":MAILTO:gareth.muir@prospectsfoundation.org.uk
END:VEVENT
END:VCALENDAR