BEGIN:VCALENDAR
VERSION:2.0
PRODID:-//Prospects - ECPv5.14.1//NONSGML v1.0//EN
CALSCALE:GREGORIAN
METHOD:PUBLISH
X-WR-CALNAME:Prospects
X-ORIGINAL-URL:https://prospectsfoundation.org.uk
X-WR-CALDESC:Events for Prospects
BEGIN:VTIMEZONE
TZID:Europe/London
BEGIN:DAYLIGHT
TZOFFSETFROM:+0000
TZOFFSETTO:+0100
TZNAME:BST
DTSTART:20210328T010000
END:DAYLIGHT
BEGIN:STANDARD
TZOFFSETFROM:+0100
TZOFFSETTO:+0000
TZNAME:GMT
DTSTART:20211031T010000
END:STANDARD
END:VTIMEZONE
BEGIN:VEVENT
DTSTART;TZID=Europe/London:20210812T130000
DTEND;TZID=Europe/London:20210812T160000
DTSTAMP:20260422T174406
CREATED:20210806T134724Z
LAST-MODIFIED:20210806T134724Z
UID:5370-1628773200-1628784000@prospectsfoundation.org.uk
SUMMARY:Warcocks Green Balsam pull and litterpick
DESCRIPTION:Warcocks Green Balsam pull and litterpick
URL:https://prospectsfoundation.org.uk/event/warcocks-green-balsam-pull-and-litterpick/
LOCATION:Warcocks Green\, Haslingden Old Road/Sough Lane\, Oswaldtwistle\, Lancashire\, BB5 3RG\, United Kingdom
CATEGORIES:Conservation,Volunteering,Woodlands
ORGANIZER;CN="Gareth%20Muir%20-%20Woodlands%20Officer":MAILTO:gareth.muir@prospectsfoundation.org.uk
END:VEVENT
END:VCALENDAR