BEGIN:VCALENDAR
VERSION:2.0
PRODID:-//Prospects - ECPv5.14.1//NONSGML v1.0//EN
CALSCALE:GREGORIAN
METHOD:PUBLISH
X-WR-CALNAME:Prospects
X-ORIGINAL-URL:https://prospectsfoundation.org.uk
X-WR-CALDESC:Events for Prospects
BEGIN:VTIMEZONE
TZID:Europe/London
BEGIN:DAYLIGHT
TZOFFSETFROM:+0000
TZOFFSETTO:+0100
TZNAME:BST
DTSTART:20230326T010000
END:DAYLIGHT
BEGIN:STANDARD
TZOFFSETFROM:+0100
TZOFFSETTO:+0000
TZNAME:GMT
DTSTART:20231029T010000
END:STANDARD
END:VTIMEZONE
BEGIN:VEVENT
DTSTART;TZID=Europe/London:20230208T100000
DTEND;TZID=Europe/London:20230208T140000
DTSTAMP:20260425T223938
CREATED:20230131T161210Z
LAST-MODIFIED:20230131T161210Z
UID:9026-1675850400-1675864800@prospectsfoundation.org.uk
SUMMARY:Walk Leader Training Workshop
DESCRIPTION:Join Prospects and Lancashire County Council Ranger\, Paul Shoreman\, for a training session on leading guided walks. \nPaul will cover: \n\nThe benefits of organised events\nBasics of legal access\nEvent planning and preparation\nHealth and safety\nProblems that may arise\n\nThere will be a combination of classroom first (at The Woodnook Centre) then out and about to practice. Dress in accordance to the forecast and wear good sturdy footwear. Bring packed lunch. \nThe Woodnook Centre is located at Royds Street\, Accrington\, BB5 2JH. \nTo find out more or confirm your attendance\, please contact Helen at helen.earnshaw@prospectsfoundation.org.uk\, telephone 07780 018248 or call into the Prospects office at 54 Broadway\, Accrington\, BB5 1EW. \nWalk Leader Training Workshop
URL:https://prospectsfoundation.org.uk/event/walk-leader-training-workshop/
LOCATION:Woodnook Centre\, Royds St\, Accrington BB5 2JH\, Accrington\, Lancashire\, BB5 2JH\, United Kingdom
CATEGORIES:Health and wellbeing,Outdoor Learning,Volunteering,Woodlands
ATTACH;FMTTYPE=image/png:https://prospectsfoundation.org.uk/wp-content/uploads/2023/01/Walk.png
ORGANIZER;CN="Helen%20Earnshaw%20-%20Community%20TreeACTION%20Officer":MAILTO:helen.earnshaw@prospectsfoundation.org.uk
END:VEVENT
END:VCALENDAR