BEGIN:VCALENDAR
VERSION:2.0
PRODID:-//Prospects - ECPv5.14.1//NONSGML v1.0//EN
CALSCALE:GREGORIAN
METHOD:PUBLISH
X-WR-CALNAME:Prospects
X-ORIGINAL-URL:https://prospectsfoundation.org.uk
X-WR-CALDESC:Events for Prospects
BEGIN:VTIMEZONE
TZID:Europe/London
BEGIN:DAYLIGHT
TZOFFSETFROM:+0000
TZOFFSETTO:+0100
TZNAME:BST
DTSTART:20260329T010000
END:DAYLIGHT
BEGIN:STANDARD
TZOFFSETFROM:+0100
TZOFFSETTO:+0000
TZNAME:GMT
DTSTART:20261025T010000
END:STANDARD
END:VTIMEZONE
BEGIN:VEVENT
DTSTART;TZID=Europe/London:20260113T100000
DTEND;TZID=Europe/London:20260113T120000
DTSTAMP:20260422T061605
CREATED:20251212T163618Z
LAST-MODIFIED:20251212T163618Z
UID:15985-1768298400-1768305600@prospectsfoundation.org.uk
SUMMARY:Tree Seed Sorting
DESCRIPTION:Join our Community TreeACTION Officer Helen for an indoor volunteering session sorting tree seeds from berries\, getting them ready for tree growing in Spring. \nIt’s a simple and relaxing task for those who want to stay warm and dry this winter\, but still want to get involved in tree growing! \nMeet us at the Propsects Office on Broadway: 54 Broadway\, Accrington\, BB5 1EW \nTo find out more or confirm your attendance\, please contact Helen at helen.earnshaw@prospectsfoundation.org.uk\, telephone 01254 230348\, or call into the Prospects office at 54 Broadway\, Accrington\, BB5 1EW. \nThe TreeACTION Project is a direct result of Hyndburn Borough Council’s Climate Emergency Declaration in September 2019 and is seen as one of the key projects where local people can help to reduce emissions within the borough. \nTree Seed Sorting
URL:https://prospectsfoundation.org.uk/event/tree-seed-sorting/
LOCATION:Prospects Environment Centre\, 54 Broadway\, Accrington\, BB51EW\, United Kingdom
CATEGORIES:Conservation,Volunteering
END:VEVENT
END:VCALENDAR