BEGIN:VCALENDAR
VERSION:2.0
PRODID:-//Prospects - ECPv5.14.1//NONSGML v1.0//EN
CALSCALE:GREGORIAN
METHOD:PUBLISH
X-WR-CALNAME:Prospects
X-ORIGINAL-URL:https://prospectsfoundation.org.uk
X-WR-CALDESC:Events for Prospects
BEGIN:VTIMEZONE
TZID:Europe/London
BEGIN:DAYLIGHT
TZOFFSETFROM:+0000
TZOFFSETTO:+0100
TZNAME:BST
DTSTART:20250330T010000
END:DAYLIGHT
BEGIN:STANDARD
TZOFFSETFROM:+0100
TZOFFSETTO:+0000
TZNAME:GMT
DTSTART:20251026T010000
END:STANDARD
END:VTIMEZONE
BEGIN:VEVENT
DTSTART;TZID=Europe/London:20250322T110000
DTEND;TZID=Europe/London:20250322T140000
DTSTAMP:20260421T200942
CREATED:20250226T154045Z
LAST-MODIFIED:20250226T154045Z
UID:13927-1742641200-1742652000@prospectsfoundation.org.uk
SUMMARY:Tree Planting at Harvey Street Oswaldtwistle
DESCRIPTION:Join our Community TreeACTION Officer Helen for a practical session planting trees at Harvey Street South in Oswaldtwistle! \nWe will be meeting on the green next to the Wordsworth Close estate\, Oswaldtwistle\, Accrington\, BB5 4QP. Staff will be in orange hi-vis. \n\nNo experience is necessary – just bring your enthusiasm!\nAll ages welcome. Children will need to be accompanied by an adult\nPlease wear suitable outdoor clothes and sturdy boots (wellies are advised)\n\nThe TreeACTION Project is a direct result of Hyndburn Borough Council’s Climate Emergency Declaration in September 2019 and is seen as one of the key projects where local people can help to reduce emissions within the borough. \nTo find out more or confirm your attendance\, please contact Helen at helen.earnshaw@prospectsfoundation.org.uk\, telephone 01254 230348\, or call into the Prospects office at 54 Broadway\, Accrington\, BB5 1EW. \nThis session is part of the bigger TreeACTION Project\, which aims to improve Hyndburn’s habitat corridors through woodland creation and enhancement\, as well as sequester carbon\, which will benefit Hyndburn for years to come! \nTree Planting at Harvey Street Oswaldtwistle
URL:https://prospectsfoundation.org.uk/event/tree-planting-at-harvey-street-oswaldtwistle/
LOCATION:Harvey Street South\, Harvey Street\, Oswaldtwistle\, BB5 4QP
CATEGORIES:Conservation,Health and wellbeing,Volunteering
ATTACH;FMTTYPE=image/png:https://prospectsfoundation.org.uk/wp-content/uploads/2024/01/Website-header-TfC-logo.png
ORGANIZER;CN="Helen%20Earnshaw%20-%20Community%20TreeACTION%20Officer":MAILTO:helen.earnshaw@prospectsfoundation.org.uk
END:VEVENT
END:VCALENDAR