BEGIN:VCALENDAR
VERSION:2.0
PRODID:-//Prospects - ECPv5.14.1//NONSGML v1.0//EN
CALSCALE:GREGORIAN
METHOD:PUBLISH
X-WR-CALNAME:Prospects
X-ORIGINAL-URL:https://prospectsfoundation.org.uk
X-WR-CALDESC:Events for Prospects
BEGIN:VTIMEZONE
TZID:Europe/London
BEGIN:DAYLIGHT
TZOFFSETFROM:+0000
TZOFFSETTO:+0100
TZNAME:BST
DTSTART:20240331T010000
END:DAYLIGHT
BEGIN:STANDARD
TZOFFSETFROM:+0100
TZOFFSETTO:+0000
TZNAME:GMT
DTSTART:20241027T010000
END:STANDARD
END:VTIMEZONE
BEGIN:VEVENT
DTSTART;TZID=Europe/London:20240303T100000
DTEND;TZID=Europe/London:20240303T130000
DTSTAMP:20260419T164818
CREATED:20240229T174647Z
LAST-MODIFIED:20240229T174647Z
UID:11541-1709460000-1709470800@prospectsfoundation.org.uk
SUMMARY:Tree Planting at Accrington Cricket Club
DESCRIPTION:Join our Community TreeACTION Officer Helen and Woodlands Officer Brandon for a practical session planting hedgerow trees at Accrington Cricket Club. \nWe will be meeting at Thorneyholme Road in Accrington\, BB5 5FW. There is on-street parking available. Staff will be in orange hi-vis. \n\nNo experience is necessary – just bring your enthusiasm!\nAll ages welcome. Children will need to be accompanied by an adult\nPlease wear suitable outdoor clothes and sturdy boots (wellies are advised)\n\nTo find out more or confirm your attendance\, please contact Helen at helen.earnshaw@prospectsfoundation.org.uk\, telephone 01254 230348\, or call into the Prospects office at 54 Broadway\, Accrington\, BB5 1EW. \nThis session is part of the bigger TreeACTION Project\, which aims to improve Hyndburn’s habitat corridors through woodland creation and enhancement\, as well as sequester carbon\, which will benefit Hyndburn for years to come! \nTree Planting at Accrington Cricket Club
URL:https://prospectsfoundation.org.uk/event/tree-planting-at-cricket-club/
LOCATION:Whinney Hill Woodland – Thorneyholme Road\, Thorneyholme Road\, Accrington\, BB5 5BB\, United Kingdom
CATEGORIES:Conservation,Volunteering,Woodlands
ATTACH;FMTTYPE=image/png:https://prospectsfoundation.org.uk/wp-content/uploads/2024/01/Website-header-TfC-logo.png
ORGANIZER;CN="Helen%20Earnshaw%20-%20Community%20TreeACTION%20Officer":MAILTO:helen.earnshaw@prospectsfoundation.org.uk
END:VEVENT
END:VCALENDAR