BEGIN:VCALENDAR
VERSION:2.0
PRODID:-//Prospects - ECPv5.14.1//NONSGML v1.0//EN
CALSCALE:GREGORIAN
METHOD:PUBLISH
X-WR-CALNAME:Prospects
X-ORIGINAL-URL:https://prospectsfoundation.org.uk
X-WR-CALDESC:Events for Prospects
BEGIN:VTIMEZONE
TZID:Europe/London
BEGIN:DAYLIGHT
TZOFFSETFROM:+0000
TZOFFSETTO:+0100
TZNAME:BST
DTSTART:20240331T010000
END:DAYLIGHT
BEGIN:STANDARD
TZOFFSETFROM:+0100
TZOFFSETTO:+0000
TZNAME:GMT
DTSTART:20241027T010000
END:STANDARD
END:VTIMEZONE
BEGIN:VEVENT
DTSTART;TZID=Europe/London:20240808T100000
DTEND;TZID=Europe/London:20240808T130000
DTSTAMP:20260420T060017
CREATED:20240723T084352Z
LAST-MODIFIED:20240723T084352Z
UID:12420-1723111200-1723122000@prospectsfoundation.org.uk
SUMMARY:Tree Maintenance at Peel Park and the Coppice Local Nature Reserve
DESCRIPTION:Join our Community TreeACTION Officer Helen for a practical session involving various tree maintenance tasks\, to help our young trees at Peel Park and the Coppice Local Nature Reserve in Accrington. We will be checking on the Alder Buckthorn hedgerow\, removing any vegetation such as grass\, rushes and brambles that might outcompete the trees\, and fixing/replacing any wonky or broken canes and shelters. \nNo experience is necessary – just bring your enthusiasm! \n\nAll ages welcome. Children will need to be accompanied by an adult\nPlease wear suitable outdoor clothes and sturdy boots (wellies are advised)\n\nTo find out more or confirm your attendance\, please contact Helen at helen.earnshaw@prospectsfoundation.org.uk\, telephone 01254 230348\, or call into the Prospects office at 54 Broadway\, Accrington\, BB5 1EW. \nThe TreeACTION Project is a direct result of Hyndburn Borough Council’s Climate Emergency Declaration in September 2019 and is seen as one of the key projects where local people can help to reduce emissions within the borough. \nTree Maintenance at Peel Park and the Coppice Local Nature Reserve
URL:https://prospectsfoundation.org.uk/event/tree-maintenance-at-peel-park-and-the-coppice-local-nature-reserve/
LOCATION:Peel Park and the Coppice Local Nature Reserve\, Main car park off Peel Park Avenue (next to the bowling green)\, Accrington\, Lancashire\, BB5 6HL\, United Kingdom
CATEGORIES:Conservation,Health and wellbeing,Peel Park and the Coppice LNR,Volunteering
ORGANIZER;CN="Helen%20Earnshaw%20-%20Community%20TreeACTION%20Officer":MAILTO:helen.earnshaw@prospectsfoundation.org.uk
END:VEVENT
END:VCALENDAR