BEGIN:VCALENDAR
VERSION:2.0
PRODID:-//Prospects - ECPv5.14.1//NONSGML v1.0//EN
CALSCALE:GREGORIAN
METHOD:PUBLISH
X-WR-CALNAME:Prospects
X-ORIGINAL-URL:https://prospectsfoundation.org.uk
X-WR-CALDESC:Events for Prospects
BEGIN:VTIMEZONE
TZID:Europe/London
BEGIN:DAYLIGHT
TZOFFSETFROM:+0000
TZOFFSETTO:+0100
TZNAME:BST
DTSTART:20220327T010000
END:DAYLIGHT
BEGIN:STANDARD
TZOFFSETFROM:+0100
TZOFFSETTO:+0000
TZNAME:GMT
DTSTART:20221030T010000
END:STANDARD
END:VTIMEZONE
BEGIN:VEVENT
DTSTART;TZID=Europe/London:20220628T133000
DTEND;TZID=Europe/London:20220628T153000
DTSTAMP:20260422T123435
CREATED:20220609T133638Z
LAST-MODIFIED:20220609T133638Z
UID:7356-1656423000-1656430200@prospectsfoundation.org.uk
SUMMARY:Tool Care Workshop
DESCRIPTION:Join The Green Spaces team and Gareth for a Tool Care Workshop cleaning\, sharpening and maintaining hand tools and blades. \n  \nContact Helen – helen.earnshaw@prospectsfoundation.org.uk to book you place or to find out more! \nTool Care Workshop
URL:https://prospectsfoundation.org.uk/event/tool-care-workshop-2/
LOCATION:Oakhill Park\, Accrington BB5 2NY\, 113 Manchester Rd\, Accrington\, Lancashire\, BB5 2NY\, United Kingdom
CATEGORIES:Conservation,Gardening,Traditional Crafts,Volunteering
ORGANIZER;CN="Helen%20Earnshaw%20-%20Green%20Spaces%20Officer":MAILTO:helen.earnshaw@prospectsfoundation.org.uk
END:VEVENT
END:VCALENDAR