BEGIN:VCALENDAR
VERSION:2.0
PRODID:-//Prospects - ECPv5.14.1//NONSGML v1.0//EN
CALSCALE:GREGORIAN
METHOD:PUBLISH
X-WR-CALNAME:Prospects
X-ORIGINAL-URL:https://prospectsfoundation.org.uk
X-WR-CALDESC:Events for Prospects
BEGIN:VTIMEZONE
TZID:Europe/London
BEGIN:DAYLIGHT
TZOFFSETFROM:+0000
TZOFFSETTO:+0100
TZNAME:BST
DTSTART:20220327T010000
END:DAYLIGHT
BEGIN:STANDARD
TZOFFSETFROM:+0100
TZOFFSETTO:+0000
TZNAME:GMT
DTSTART:20221030T010000
END:STANDARD
END:VTIMEZONE
BEGIN:VEVENT
DTSTART;TZID=Europe/London:20220419T130000
DTEND;TZID=Europe/London:20220419T150000
DTSTAMP:20260422T223154
CREATED:20220330T151716Z
LAST-MODIFIED:20220404T161450Z
UID:6913-1650373200-1650380400@prospectsfoundation.org.uk
SUMMARY:Spring wildlife walk at Peel Park and the Coppice Local Nature Reserve
DESCRIPTION:Join us for a spring wildlife walk at Peel Park and the Coppice Local Nature Reserve\, Tuesday 19 April\, 1pm to 3pm.  We’ll be looking for wildflowers\, birds and other spring wildlife.  Ben Hargreaves\, local bee specialist from the Lancashire Wildlife Trust will be joining us.  Hopefully\, if the weather is warm and sunny\, we’ll see some bees and butterflies too.   Children welcome if accompanied by an adult.  To book a place email gemma.mcmullan@prospectsfoundation.org.uk\, telephone 01254 230348 or call into the Prospects office at 54 Broadway\, Accrington. \nSpring wildlife walk at Peel Park and the Coppice Local Nature Reserve
URL:https://prospectsfoundation.org.uk/event/spring-wildlife-walk-at-peel-park-and-the-coppice-local-nature-reserve/
LOCATION:Peel Park and the Coppice Local Nature Reserve\, Main car park off Peel Park Avenue (next to the bowling green)\, Accrington\, Lancashire\, BB5 6HL\, United Kingdom
CATEGORIES:Family,Health and wellbeing,Outdoor Learning,Peel Park and the Coppice LNR,Volunteering,Walking
ATTACH;FMTTYPE=image/png:https://prospectsfoundation.org.uk/wp-content/uploads/2022/03/Screenshot-2022-03-30-164131.png
ORGANIZER;CN="Gemma%20McMullan":MAILTO:gemma.mcmullan@prospectsfoundation.org.uk
END:VEVENT
END:VCALENDAR