BEGIN:VCALENDAR
VERSION:2.0
PRODID:-//Prospects - ECPv5.14.1//NONSGML v1.0//EN
CALSCALE:GREGORIAN
METHOD:PUBLISH
X-WR-CALNAME:Prospects
X-ORIGINAL-URL:https://prospectsfoundation.org.uk
X-WR-CALDESC:Events for Prospects
BEGIN:VTIMEZONE
TZID:Europe/London
BEGIN:DAYLIGHT
TZOFFSETFROM:+0000
TZOFFSETTO:+0100
TZNAME:BST
DTSTART:20240331T010000
END:DAYLIGHT
BEGIN:STANDARD
TZOFFSETFROM:+0100
TZOFFSETTO:+0000
TZNAME:GMT
DTSTART:20241027T010000
END:STANDARD
END:VTIMEZONE
BEGIN:VEVENT
DTSTART;TZID=Europe/London:20240408T180000
DTEND;TZID=Europe/London:20240408T200000
DTSTAMP:20260421T142920
CREATED:20240328T130753Z
LAST-MODIFIED:20240328T130753Z
UID:11851-1712599200-1712606400@prospectsfoundation.org.uk
SUMMARY:Spring Parade Workshop with Handmade Productions
DESCRIPTION:Join us for an evening of crafting at Accrington Academy to make props for Accrington Spring Parade! Handmade Productions will lead the session and our theme will be Oaks and Acorns. \nNo experience is necessary – just bring your enthusiasm! All ages welcome\, children will need to be accompanied by an adult. \nThere will be free food and refreshments. \nTo book your place\, please email info@prospectsfoundation.org.uk \n  \nSpring Parade Workshop with Handmade Productions
URL:https://prospectsfoundation.org.uk/event/spring-parade-workshop-with-handmade-productions/
CATEGORIES:Family,Nature Crafts,Recycling,Traditional Crafts
ATTACH;FMTTYPE=image/jpeg:https://prospectsfoundation.org.uk/wp-content/uploads/2024/03/handmade-prodctions.jpeg
END:VEVENT
END:VCALENDAR