BEGIN:VCALENDAR
VERSION:2.0
PRODID:-//Prospects - ECPv5.14.1//NONSGML v1.0//EN
CALSCALE:GREGORIAN
METHOD:PUBLISH
X-WR-CALNAME:Prospects
X-ORIGINAL-URL:https://prospectsfoundation.org.uk
X-WR-CALDESC:Events for Prospects
BEGIN:VTIMEZONE
TZID:Europe/London
BEGIN:DAYLIGHT
TZOFFSETFROM:+0000
TZOFFSETTO:+0100
TZNAME:BST
DTSTART:20230326T010000
END:DAYLIGHT
BEGIN:STANDARD
TZOFFSETFROM:+0100
TZOFFSETTO:+0000
TZNAME:GMT
DTSTART:20231029T010000
END:STANDARD
END:VTIMEZONE
BEGIN:VEVENT
DTSTART;TZID=Europe/London:20230429T110000
DTEND;TZID=Europe/London:20230429T133000
DTSTAMP:20260426T023052
CREATED:20230327T162716Z
LAST-MODIFIED:20230328T153343Z
UID:9266-1682766000-1682775000@prospectsfoundation.org.uk
SUMMARY:Spring Foraging Walk with Medical Herbalist Danielle Kay
DESCRIPTION:Join Medical Herbalist\, Danielle Kay\, for a spring Foraging Walk followed by recipe demonstrations. Learn about the healing properties of local wildflowers\, shrubs and trees! \nWe will be meeting at Oak Hill park (across from the playground) and taking a walk into Woodnook Vale. We will then finish back at Oak Hill for the demonstration! \nAddress for Oak Hill Park is Manchester Road\, Accrington\, BB5 2NY. There is roadside parking surrounding the park. Staff will be wearing an orange high-vis. \nBOOKING REQUIRED – LIMITED SPACES  – to book a place or find out more\, please contact chloe.jameson@prospectsfoundation.org.uk\, telephone 01254 230348\, or call into the Prospects office at 54 Broadway\, Accrington\, BB5 1EW. \nSpring Foraging Walk with Medical Herbalist Danielle Kay
URL:https://prospectsfoundation.org.uk/event/spring-foraging-walk-with-medical-herbalist-danielle-kay/
LOCATION:Oakhill Park\, Accrington BB5 2NY\, 113 Manchester Rd\, Accrington\, Lancashire\, BB5 2NY\, United Kingdom
CATEGORIES:Conservation,Family,Food Growing,Gardening,Health and wellbeing,Outdoor Learning,Walking,Woodlands
ATTACH;FMTTYPE=image/jpeg:https://prospectsfoundation.org.uk/wp-content/uploads/2023/03/IMG-20230328-WA0004_2.jpg
ORGANIZER;CN="Chloe%20Jameson":MAILTO:chloe.jameson@prospectsfoundation.org.uk
END:VEVENT
END:VCALENDAR