BEGIN:VCALENDAR
VERSION:2.0
PRODID:-//Prospects - ECPv5.14.1//NONSGML v1.0//EN
CALSCALE:GREGORIAN
METHOD:PUBLISH
X-WR-CALNAME:Prospects
X-ORIGINAL-URL:https://prospectsfoundation.org.uk
X-WR-CALDESC:Events for Prospects
BEGIN:VTIMEZONE
TZID:Europe/London
BEGIN:DAYLIGHT
TZOFFSETFROM:+0000
TZOFFSETTO:+0100
TZNAME:BST
DTSTART:20240331T010000
END:DAYLIGHT
BEGIN:STANDARD
TZOFFSETFROM:+0100
TZOFFSETTO:+0000
TZNAME:GMT
DTSTART:20241027T010000
END:STANDARD
END:VTIMEZONE
BEGIN:VEVENT
DTSTART;TZID=Europe/London:20240406T100000
DTEND;TZID=Europe/London:20240406T140000
DTSTAMP:20260421T102341
CREATED:20240327T134154Z
LAST-MODIFIED:20240327T134154Z
UID:11800-1712397600-1712412000@prospectsfoundation.org.uk
SUMMARY:Spring Cleaning @Pleck Meadow - Conservation Volunteers session - Peel Park and the Coppice Local Nature Reserve
DESCRIPTION:Join us for a special Saturday conservation volunteers session at Peel Park and the Coppice Local Nature Reserve. \nWe will be meeting at the Arden Hall entrance for 9am and will be visiting Pleck Meadow to pick litter\, remove negative indicator plants\, and look for signs of spring! The paths are all well maintained and suitable for wheelchairs/mobility scooters/prams\, however there are some very steep sections and we will be going off the path to look for things in the meadow.\n\nThere are no toilet or hand-washing facilities on the site.\n\nChildren are welcome to attend but must be accompanied by an adult. Well-behaved dogs are welcome to attend but the site is frequented by other dog walkers so they must be comfortable around other dogs.\n\nGet in touch if you’d like to attend or have any other questions!\nEmail robert.gabryszak@prospectsfoundation.org.uk\, telephone 01254 230348 (ext 208) or call into the Prospects office at 54 Broadway\, Accrington. \nSpring Cleaning @Pleck Meadow – Conservation Volunteers session – Peel Park and the Coppice Local Nature Reserve
URL:https://prospectsfoundation.org.uk/event/spring-cleaning-pleck-meadow-conservation-volunteers-session-peel-park-and-the-coppice-local-nature-reserve-2/
LOCATION:Peel Park and the Coppice Local Nature Reserve\, Main car park off Peel Park Avenue (next to the bowling green)\, Accrington\, Lancashire\, BB5 6HL\, United Kingdom
CATEGORIES:Conservation,Health and wellbeing,Peel Park and the Coppice LNR,Volunteering
ATTACH;FMTTYPE=image/png:https://prospectsfoundation.org.uk/wp-content/uploads/2024/03/Litter-Pick.png
ORGANIZER;CN="Robert%20Gabryszak%20-%20LNR%20Project%20Officer":MAILTO:robert.gabryszak@prospectsfoundation.org.uk
END:VEVENT
END:VCALENDAR