BEGIN:VCALENDAR
VERSION:2.0
PRODID:-//Prospects - ECPv5.14.1//NONSGML v1.0//EN
CALSCALE:GREGORIAN
METHOD:PUBLISH
X-WR-CALNAME:Prospects
X-ORIGINAL-URL:https://prospectsfoundation.org.uk
X-WR-CALDESC:Events for Prospects
BEGIN:VTIMEZONE
TZID:Europe/London
BEGIN:DAYLIGHT
TZOFFSETFROM:+0000
TZOFFSETTO:+0100
TZNAME:BST
DTSTART:20230326T010000
END:DAYLIGHT
BEGIN:STANDARD
TZOFFSETFROM:+0100
TZOFFSETTO:+0000
TZNAME:GMT
DTSTART:20231029T010000
END:STANDARD
END:VTIMEZONE
BEGIN:VEVENT
DTSTART;TZID=Europe/London:20230124T100000
DTEND;TZID=Europe/London:20230124T130000
DTSTAMP:20260425T224436
CREATED:20230105T153229Z
LAST-MODIFIED:20230105T153229Z
UID:8819-1674554400-1674565200@prospectsfoundation.org.uk
SUMMARY:Spout House Woodland - Green Team Volunteering
DESCRIPTION:Join our ‘Green Team’ of conservation volunteers led by our Green Spaces staff members: Helen\, Brandon & Chloe. \nThis week we will be removing the old tree guards from when the woodland was first planted. All equipment and PPE will be provided. \nWe will be meeting at the village stocks\, Higher Gate Road. There is on street parking along Higher Gate Road\, then it will be a short walk to the site. Staff will be in orange hi-vis. \nTo find out more or confirm your attendance contact Chloe at chloe.jameson@prospectsfoundation.org.uk\, telephone 01254 230348 or call into the Prospects office at 54 Broadway\, Accrington. \nSpout House Woodland – Green Team Volunteering
URL:https://prospectsfoundation.org.uk/event/spout-house-woodland-green-team-volunteering-3/
LOCATION:Spout House Community Woodland\, Higher Gate Road\, Accrington\, BB5 6LH
CATEGORIES:Conservation,Health and wellbeing,Volunteering,Walking,Woodlands
ATTACH;FMTTYPE=image/jpeg:https://prospectsfoundation.org.uk/wp-content/uploads/2023/01/Photo-scaled-e1672932642235.jpg
ORGANIZER;CN="Helen%20Earnshaw%20-%20Green%20Spaces%20Officer":MAILTO:helen.earnshaw@prospectsfoundation.org.uk
END:VEVENT
END:VCALENDAR