BEGIN:VCALENDAR
VERSION:2.0
PRODID:-//Prospects - ECPv5.14.1//NONSGML v1.0//EN
CALSCALE:GREGORIAN
METHOD:PUBLISH
X-WR-CALNAME:Prospects
X-ORIGINAL-URL:https://prospectsfoundation.org.uk
X-WR-CALDESC:Events for Prospects
BEGIN:VTIMEZONE
TZID:Europe/London
BEGIN:DAYLIGHT
TZOFFSETFROM:+0000
TZOFFSETTO:+0100
TZNAME:BST
DTSTART:20220327T010000
END:DAYLIGHT
BEGIN:STANDARD
TZOFFSETFROM:+0100
TZOFFSETTO:+0000
TZNAME:GMT
DTSTART:20221030T010000
END:STANDARD
END:VTIMEZONE
BEGIN:VEVENT
DTSTART;TZID=Europe/London:20220223T100000
DTEND;TZID=Europe/London:20220223T150000
DTSTAMP:20260423T050403
CREATED:20220124T125902Z
LAST-MODIFIED:20220124T133444Z
UID:6615-1645610400-1645628400@prospectsfoundation.org.uk
SUMMARY:Spoon Carving workshop
DESCRIPTION:Join Gareth for a day of spoon carving in the woods! \nAn ideal follow on for those who attended ‘Introduction to Green Woodwork’. \nUsing ‘green’ wood and hand tools participants will learn the skills necessary to carve a spoon. \nBOOKING ESSENTIAL \nContact Gareth – gareth.muir@prospectsfoundation.org.uk to book your place or to find out more. \nSpoon Carving workshop
URL:https://prospectsfoundation.org.uk/event/spoon-carving-workshop/
LOCATION:Huncoats woodland
CATEGORIES:Traditional Crafts,Woodlands
ORGANIZER;CN="Gareth%20Muir%20-%20Woodlands%20Officer":MAILTO:gareth.muir@prospectsfoundation.org.uk
END:VEVENT
END:VCALENDAR