BEGIN:VCALENDAR
VERSION:2.0
PRODID:-//Prospects - ECPv5.14.1//NONSGML v1.0//EN
CALSCALE:GREGORIAN
METHOD:PUBLISH
X-WR-CALNAME:Prospects
X-ORIGINAL-URL:https://prospectsfoundation.org.uk
X-WR-CALDESC:Events for Prospects
BEGIN:VTIMEZONE
TZID:Europe/London
BEGIN:DAYLIGHT
TZOFFSETFROM:+0000
TZOFFSETTO:+0100
TZNAME:BST
DTSTART:20230326T010000
END:DAYLIGHT
BEGIN:STANDARD
TZOFFSETFROM:+0100
TZOFFSETTO:+0000
TZNAME:GMT
DTSTART:20231029T010000
END:STANDARD
END:VTIMEZONE
BEGIN:VEVENT
DTSTART;TZID=Europe/London:20230215T100000
DTEND;TZID=Europe/London:20230215T140000
DTSTAMP:20260426T044610
CREATED:20230127T095742Z
LAST-MODIFIED:20230127T095742Z
UID:8983-1676455200-1676469600@prospectsfoundation.org.uk
SUMMARY:Spoon Carving
DESCRIPTION:Join Gareth for a day of spoon carving at the PROSPECTS Workshop! \nAn ideal follow on for those who attended ‘Introduction to Green Woodwork’. \nUsing ‘green’ wood and hand tools participants will learn the skills necessary to carve a spoon. \nBOOKING ESSENTIAL \nContact Gareth – gareth.muir@prospectsfoundation.org.uk to book your place or to find out more. \n \nSpoon Carving
URL:https://prospectsfoundation.org.uk/event/spoon-carving-2/
LOCATION:Oakhill Park\, Accrington BB5 2NY\, 113 Manchester Rd\, Accrington\, Lancashire\, BB5 2NY\, United Kingdom
CATEGORIES:Traditional Crafts
ORGANIZER;CN="Gareth%20Muir%20-%20Woodlands%20Officer":MAILTO:gareth.muir@prospectsfoundation.org.uk
END:VEVENT
END:VCALENDAR