BEGIN:VCALENDAR
VERSION:2.0
PRODID:-//Prospects - ECPv5.14.1//NONSGML v1.0//EN
CALSCALE:GREGORIAN
METHOD:PUBLISH
X-WR-CALNAME:Prospects
X-ORIGINAL-URL:https://prospectsfoundation.org.uk
X-WR-CALDESC:Events for Prospects
BEGIN:VTIMEZONE
TZID:Europe/London
BEGIN:DAYLIGHT
TZOFFSETFROM:+0000
TZOFFSETTO:+0100
TZNAME:BST
DTSTART:20240331T010000
END:DAYLIGHT
BEGIN:STANDARD
TZOFFSETFROM:+0100
TZOFFSETTO:+0000
TZNAME:GMT
DTSTART:20241027T010000
END:STANDARD
END:VTIMEZONE
BEGIN:VEVENT
DTSTART;TZID=Europe/London:20240904T100000
DTEND;TZID=Europe/London:20240904T150000
DTSTAMP:20260419T204623
CREATED:20240829T114025Z
LAST-MODIFIED:20240829T114025Z
UID:12517-1725444000-1725462000@prospectsfoundation.org.uk
SUMMARY:Scything at Milnshaw Park wildflower meadow
DESCRIPTION:Join Hyndburn Butterfly Project and the PROSPECTS Foundation for a day of scything and hay raking at Milnshaw Park wildflower meadow. \nDate: Wednesday 4th September\nTime: 10am – 3pm\nMeeting point: Milnshaw Park\, Lancaster Avenue\, Accrington\, BB5 4BH \nContact Gemma to book or find out more: gemma.mcmullan@prospectsfoundation.org.uk \nScything at Milnshaw Park wildflower meadow
URL:https://prospectsfoundation.org.uk/event/scything-at-milnshaw-park-wildflower-meadow/
LOCATION:Milnshaw Park\, Lancaster Ave\, Accrington\, Accrington\, Lancashire\, BB5 4SD\, United Kingdom
CATEGORIES:Conservation,Gardening,Traditional Crafts
ATTACH;FMTTYPE=image/jpeg:https://prospectsfoundation.org.uk/wp-content/uploads/2024/08/milnshaw-parkmeadow-scaled.jpg
ORGANIZER;CN="Gemma%20McMullan":MAILTO:gemma.mcmullan@prospectsfoundation.org.uk
END:VEVENT
END:VCALENDAR