BEGIN:VCALENDAR
VERSION:2.0
PRODID:-//Prospects - ECPv5.14.1//NONSGML v1.0//EN
CALSCALE:GREGORIAN
METHOD:PUBLISH
X-WR-CALNAME:Prospects
X-ORIGINAL-URL:https://prospectsfoundation.org.uk
X-WR-CALDESC:Events for Prospects
BEGIN:VTIMEZONE
TZID:Europe/London
BEGIN:DAYLIGHT
TZOFFSETFROM:+0000
TZOFFSETTO:+0100
TZNAME:BST
DTSTART:20250330T010000
END:DAYLIGHT
BEGIN:STANDARD
TZOFFSETFROM:+0100
TZOFFSETTO:+0000
TZNAME:GMT
DTSTART:20251026T010000
END:STANDARD
END:VTIMEZONE
BEGIN:VEVENT
DTSTART;TZID=Europe/London:20250902T100000
DTEND;TZID=Europe/London:20250902T150000
DTSTAMP:20260422T233150
CREATED:20250828T112348Z
LAST-MODIFIED:20250828T112348Z
UID:15181-1756807200-1756825200@prospectsfoundation.org.uk
SUMMARY:Scything and hay raking at Milnshaw Park butterfly wildflower meadow
DESCRIPTION:Join Hyndburn Butterfly Project and the PROSPECTS Foundation for a day of scything and hay raking at Milnshaw Park butterfly wildflower meadow. \nDate: Tuesday 2nd September 2025\nTime: 10am – 3pm\nMeeting point: Milnshaw Park\, Lancaster Avenue\, Accrington\, BB5 4BH \nContact Gemma to book or find out more: gemma.mcmullan@prospectsfoundation.org.uk \nScything and hay raking at Milnshaw Park butterfly wildflower meadow
URL:https://prospectsfoundation.org.uk/event/scything-and-hay-raking-at-milnshaw-park-butterfly-wildflower-meadow/
LOCATION:Milnshaw Park\, Lancaster Ave\, Accrington\, Accrington\, Lancashire\, BB5 4SD\, United Kingdom
CATEGORIES:Conservation,Gardening,Traditional Crafts
ATTACH;FMTTYPE=image/jpeg:https://prospectsfoundation.org.uk/wp-content/uploads/2024/08/milnshaw-parkmeadow-scaled.jpg
ORGANIZER;CN="Gemma%20McMullan":MAILTO:gemma.mcmullan@prospectsfoundation.org.uk
END:VEVENT
END:VCALENDAR