BEGIN:VCALENDAR
VERSION:2.0
PRODID:-//Prospects - ECPv5.14.1//NONSGML v1.0//EN
CALSCALE:GREGORIAN
METHOD:PUBLISH
X-WR-CALNAME:Prospects
X-ORIGINAL-URL:https://prospectsfoundation.org.uk
X-WR-CALDESC:Events for Prospects
BEGIN:VTIMEZONE
TZID:Europe/London
BEGIN:DAYLIGHT
TZOFFSETFROM:+0000
TZOFFSETTO:+0100
TZNAME:BST
DTSTART:20250330T010000
END:DAYLIGHT
BEGIN:STANDARD
TZOFFSETFROM:+0100
TZOFFSETTO:+0000
TZNAME:GMT
DTSTART:20251026T010000
END:STANDARD
END:VTIMEZONE
BEGIN:VEVENT
DTSTART;TZID=Europe/London:20250820T100000
DTEND;TZID=Europe/London:20250820T150000
DTSTAMP:20260421T155414
CREATED:20250731T160059Z
LAST-MODIFIED:20250731T160059Z
UID:15074-1755684000-1755702000@prospectsfoundation.org.uk
SUMMARY:Rushton House - Hyndburn's Woodlands
DESCRIPTION:Join Hyndburn’s Woodlands Officer Brandon for weekly practical conservation sessions. \n\n\nThis week we will be at Huncoat West woodland carrying out a woodland condition assessment. Tasks include carrying out a timber volume assessment and a Biodiversity Net Gain assessment in order to assess how well the woodland is growing and its biodiversity value \n\nMeeting along Broadfield\, Oswaldtwistle\, Accrington\, BB5 3SF. \n\nTo find out more or confirm your attendance\, please contact Brandon at brandon.cherry@prospectsfoundation.org.uk or 07733 840842 \n\nRushton House – Hyndburn’s Woodlands
URL:https://prospectsfoundation.org.uk/event/rushton-house-hyndburns-woodlands-2/
LOCATION:Rushton House Farm\, Broadfield/Rough Hay Lane\, Oswaldtwistle\, BB5 3SF\, United Kingdom
CATEGORIES:Conservation,Health and wellbeing,Volunteering,Woodlands
ATTACH;FMTTYPE=image/jpeg:https://prospectsfoundation.org.uk/wp-content/uploads/2025/07/IMG_20240730_131909.jpg
ORGANIZER;CN="Brandon%20Cherry":MAILTO:brandon.cherry@prospectsfoundation.org.uk
END:VEVENT
END:VCALENDAR