BEGIN:VCALENDAR
VERSION:2.0
PRODID:-//Prospects - ECPv5.14.1//NONSGML v1.0//EN
CALSCALE:GREGORIAN
METHOD:PUBLISH
X-WR-CALNAME:Prospects
X-ORIGINAL-URL:https://prospectsfoundation.org.uk
X-WR-CALDESC:Events for Prospects
BEGIN:VTIMEZONE
TZID:Europe/London
BEGIN:DAYLIGHT
TZOFFSETFROM:+0000
TZOFFSETTO:+0100
TZNAME:BST
DTSTART:20210328T010000
END:DAYLIGHT
BEGIN:STANDARD
TZOFFSETFROM:+0100
TZOFFSETTO:+0000
TZNAME:GMT
DTSTART:20211031T010000
END:STANDARD
END:VTIMEZONE
BEGIN:VEVENT
DTSTART;TZID=Europe/London:20211014T100000
DTEND;TZID=Europe/London:20211014T150000
DTSTAMP:20260423T055206
CREATED:20210913T130722Z
LAST-MODIFIED:20210913T131857Z
UID:5649-1634205600-1634223600@prospectsfoundation.org.uk
SUMMARY:Hyndburn's Woodlands - Rushton House Farm
DESCRIPTION:Join Gareth and the nature volunteers to help thin Rushton House Farm woodland. \nContact Gareth – gareth.muir@prospectsfoundation.org.uk to book your place or to find out more. \nHyndburn’s Woodlands – Rushton House Farm
URL:https://prospectsfoundation.org.uk/event/rushton-house-farm/
LOCATION:Rushton House Farm\, Broadfield/Rough Hay Lane\, Oswaldtwistle\, BB5 3SF\, United Kingdom
CATEGORIES:Conservation,Volunteering,Woodlands
ORGANIZER;CN="Gareth%20Muir%20-%20Woodlands%20Officer":MAILTO:gareth.muir@prospectsfoundation.org.uk
END:VEVENT
END:VCALENDAR