BEGIN:VCALENDAR
VERSION:2.0
PRODID:-//Prospects - ECPv5.14.1//NONSGML v1.0//EN
CALSCALE:GREGORIAN
METHOD:PUBLISH
X-WR-CALNAME:Prospects
X-ORIGINAL-URL:https://prospectsfoundation.org.uk
X-WR-CALDESC:Events for Prospects
BEGIN:VTIMEZONE
TZID:Europe/London
BEGIN:DAYLIGHT
TZOFFSETFROM:+0000
TZOFFSETTO:+0100
TZNAME:BST
DTSTART:20230326T010000
END:DAYLIGHT
BEGIN:STANDARD
TZOFFSETFROM:+0100
TZOFFSETTO:+0000
TZNAME:GMT
DTSTART:20231029T010000
END:STANDARD
END:VTIMEZONE
BEGIN:VEVENT
DTSTART;TZID=Europe/London:20230815T100000
DTEND;TZID=Europe/London:20230815T150000
DTSTAMP:20260426T003304
CREATED:20230731T153822Z
LAST-MODIFIED:20230731T153822Z
UID:10255-1692093600-1692111600@prospectsfoundation.org.uk
SUMMARY:Rushton House Farm - Hyndburn's Woodlands
DESCRIPTION:Join the Hyndburn’s Woodlands Volunteers for weekly practical conservation sessions. \nThis week\, we will be at Rushton House Farm making some much needed access improvements \nTools\, gloves and PPE will be provided. Please wear sturdy boots\, long sleeves and full length trousers as we may be working around brambles and nettles. Waterproofs may be needed\, depending on the weather. \nWe will be meeting along Broadfield\, Oswaldtwistle\, BB5 3SF United Kingdom. There is on-street parking available. Staff will be in orange hi-vis. \nTo find out more or confirm your attendance\, please contact Brandon at brandon.cherry@prospectsfoundation.org.uk or 07733 840842 \n\nRushton House Farm – Hyndburn’s Woodlands
URL:https://prospectsfoundation.org.uk/event/rushton-house-farm-hyndburns-woodlands-5/
LOCATION:Rushton House Farm\, Broadfield/Rough Hay Lane\, Oswaldtwistle\, BB5 3SF\, United Kingdom
CATEGORIES:Health and wellbeing,Outdoor Learning,Volunteering,Woodlands
ATTACH;FMTTYPE=image/jpeg:https://prospectsfoundation.org.uk/wp-content/uploads/2023/07/IMG_20220927_104938-scaled.jpg
ORGANIZER;CN="Brandon%20Cherry":MAILTO:brandon.cherry@prospectsfoundation.org.uk
END:VEVENT
END:VCALENDAR