BEGIN:VCALENDAR
VERSION:2.0
PRODID:-//Prospects - ECPv5.14.1//NONSGML v1.0//EN
CALSCALE:GREGORIAN
METHOD:PUBLISH
X-WR-CALNAME:Prospects
X-ORIGINAL-URL:https://prospectsfoundation.org.uk
X-WR-CALDESC:Events for Prospects
BEGIN:VTIMEZONE
TZID:Europe/London
BEGIN:DAYLIGHT
TZOFFSETFROM:+0000
TZOFFSETTO:+0100
TZNAME:BST
DTSTART:20230326T010000
END:DAYLIGHT
BEGIN:STANDARD
TZOFFSETFROM:+0100
TZOFFSETTO:+0000
TZNAME:GMT
DTSTART:20231029T010000
END:STANDARD
END:VTIMEZONE
BEGIN:VEVENT
DTSTART;TZID=Europe/London:20230209T100000
DTEND;TZID=Europe/London:20230209T150000
DTSTAMP:20260426T000725
CREATED:20230127T095020Z
LAST-MODIFIED:20230127T095020Z
UID:8977-1675936800-1675954800@prospectsfoundation.org.uk
SUMMARY:Rushton House Farm - Hyndburn's Woodlands
DESCRIPTION:Join Gareth and the Woodland Volunteers for a day of practical environmental conservation! \nTasks will include removing non-native trees and thinning Holly on site. \nContact Gareth – gareth.muir@prospectsfoundation.org.uk or phone 01254 230 348 to find out more and get involved! \n \nRushton House Farm – Hyndburn’s Woodlands
URL:https://prospectsfoundation.org.uk/event/rushton-house-farm-hyndburns-woodlands-3/
LOCATION:Rushton House Farm\, Broadfield/Rough Hay Lane\, Oswaldtwistle\, BB5 3SF\, United Kingdom
CATEGORIES:Conservation,Volunteering,Woodlands
ORGANIZER;CN="Gareth%20Muir%20-%20Woodlands%20Officer":MAILTO:gareth.muir@prospectsfoundation.org.uk
END:VEVENT
END:VCALENDAR