BEGIN:VCALENDAR
VERSION:2.0
PRODID:-//Prospects - ECPv5.14.1//NONSGML v1.0//EN
CALSCALE:GREGORIAN
METHOD:PUBLISH
X-WR-CALNAME:Prospects
X-ORIGINAL-URL:https://prospectsfoundation.org.uk
X-WR-CALDESC:Events for Prospects
BEGIN:VTIMEZONE
TZID:Europe/London
BEGIN:DAYLIGHT
TZOFFSETFROM:+0000
TZOFFSETTO:+0100
TZNAME:BST
DTSTART:20200329T010000
END:DAYLIGHT
BEGIN:STANDARD
TZOFFSETFROM:+0100
TZOFFSETTO:+0000
TZNAME:GMT
DTSTART:20201025T010000
END:STANDARD
END:VTIMEZONE
BEGIN:VEVENT
DTSTART;TZID=Europe/London:20200222T100000
DTEND;TZID=Europe/London:20200222T140000
DTSTAMP:20260422T205700
CREATED:20200127T152158Z
LAST-MODIFIED:20200204T160516Z
UID:2625-1582365600-1582380000@prospectsfoundation.org.uk
SUMMARY:ROTHWELL HEIGHTS TREE PLANTING
DESCRIPTION:We will be planting trees and shrubs at Rothwell Heights which is at the top of Willows Lane in Accrington and part of Woodnook Vale Local Nature Reserve.  The site is opposite the KCL Garage just before you reach the hamlet of Bedlam. \nClick HERE to see a Google Streetview of the location. \nThe event will start at 10.00am and finish at 2.00pm\, or when all the trees are planted.  Please wear warm clothing and wellies or strong boots.  Spades and gloves will be provided. \nFor more details phone Prospects on 01254-230348. \nThis event is funded by Hyndburn Borough Council as part of the Hyndburn Local Nature Reserve Weekend Volunteering Programme. \n \nROTHWELL HEIGHTS TREE PLANTING
URL:https://prospectsfoundation.org.uk/event/rothwell-heights-tree-planting/
LOCATION:Rothwell Heights\, Opposite KCL Garage\, Top of Willows Lane\, Accrington\, Lancashire\, BB5 3SS
CATEGORIES:Conservation,Volunteering,Woodlands
END:VEVENT
END:VCALENDAR