BEGIN:VCALENDAR
VERSION:2.0
PRODID:-//Prospects - ECPv5.14.1//NONSGML v1.0//EN
CALSCALE:GREGORIAN
METHOD:PUBLISH
X-WR-CALNAME:Prospects
X-ORIGINAL-URL:https://prospectsfoundation.org.uk
X-WR-CALDESC:Events for Prospects
BEGIN:VTIMEZONE
TZID:Europe/London
BEGIN:DAYLIGHT
TZOFFSETFROM:+0000
TZOFFSETTO:+0100
TZNAME:BST
DTSTART:20190331T010000
END:DAYLIGHT
BEGIN:STANDARD
TZOFFSETFROM:+0100
TZOFFSETTO:+0000
TZNAME:GMT
DTSTART:20191027T010000
END:STANDARD
END:VTIMEZONE
BEGIN:VEVENT
DTSTART;TZID=Europe/London:20191123T100000
DTEND;TZID=Europe/London:20191123T150000
DTSTAMP:20260423T233722
CREATED:20191002T102821Z
LAST-MODIFIED:20191113T161616Z
UID:946-1574503200-1574521200@prospectsfoundation.org.uk
SUMMARY:ROTHWELL HEIGHTS FOREST SCHOOL TREE PLANTING
DESCRIPTION:As part of National Tree Week we will be hosting a tree and shrub planting event within the Forest School site at Rothwell Heights which is at the top of Willows Lane in Accrington.  The site is opposite the KCL Garage just before you reach the hamlet of Bedlam. \nPlease copy and paste the link below into Google for a map of the location.\nhttps://goo.gl/maps/DtV7qkidMP59dJ2A8 \nThe event will start at 10.00am and finish at 3.00pm\, or when all the trees are planted.  Please wear warm clothing and wellies or strong boots.  Spades and gloves will be provided. \nFor more details phone Prospects on 01254-230348. \nThis event is funded by Hyndburn Borough Council as part of the Hyndburn Local Nature Reserve Weekend Volunteering Programme. \n \nPoster National Tree Week 2019 Rothwell final version \nROTHWELL HEIGHTS FOREST SCHOOL TREE PLANTING
URL:https://prospectsfoundation.org.uk/event/rothwell-heights-forest-school-tree-planting/
LOCATION:Rothwell Heights\, Opposite KCL Garage\, Top of Willows Lane\, Accrington\, Lancashire\, BB5 3SS
CATEGORIES:Conservation,Volunteering,Woodlands
END:VEVENT
END:VCALENDAR