BEGIN:VCALENDAR
VERSION:2.0
PRODID:-//Prospects - ECPv5.14.1//NONSGML v1.0//EN
CALSCALE:GREGORIAN
METHOD:PUBLISH
X-WR-CALNAME:Prospects
X-ORIGINAL-URL:https://prospectsfoundation.org.uk
X-WR-CALDESC:Events for Prospects
BEGIN:VTIMEZONE
TZID:Europe/London
BEGIN:DAYLIGHT
TZOFFSETFROM:+0000
TZOFFSETTO:+0100
TZNAME:BST
DTSTART:20200329T010000
END:DAYLIGHT
BEGIN:STANDARD
TZOFFSETFROM:+0100
TZOFFSETTO:+0000
TZNAME:GMT
DTSTART:20201025T010000
END:STANDARD
END:VTIMEZONE
BEGIN:VEVENT
DTSTART;TZID=Europe/London:20200309T190000
DTEND;TZID=Europe/London:20200309T200000
DTSTAMP:20260422T194150
CREATED:20200218T164155Z
LAST-MODIFIED:20200227T131308Z
UID:2815-1583780400-1583784000@prospectsfoundation.org.uk
SUMMARY:RISHTON PROSPECTS PANEL MEETING
DESCRIPTION:The next meeting of the Rishton Prospects Panel will be at 7.00pm on Monday 9th March at the People’s Centre on the corner of School and Commercial Street in Rishton. \nThe meeting will hear about the ‘Wakes Week’ artwork on the Train Station and updates on Piggy Park\, the Canal Working Party and other events around the village. \n\nAgenda for Mon 9th March 2020\nMinutes from Tue 7th Jan 2020\n\nAll are welcome to attend. \nClick HERE to see a location map for the People’s Centre. \n \nRISHTON PROSPECTS PANEL MEETING
URL:https://prospectsfoundation.org.uk/event/rishton-9th-mar-20/
LOCATION:People’s Centre\, School Street\, Rishton\, BB1 4LJ
CATEGORIES:Volunteering
ATTACH;FMTTYPE=image/jpeg:https://prospectsfoundation.org.uk/wp-content/uploads/2019/11/Rishton-Logo-300dpi-e1582044000658.jpg
END:VEVENT
END:VCALENDAR