BEGIN:VCALENDAR
VERSION:2.0
PRODID:-//Prospects - ECPv5.14.1//NONSGML v1.0//EN
CALSCALE:GREGORIAN
METHOD:PUBLISH
X-WR-CALNAME:Prospects
X-ORIGINAL-URL:https://prospectsfoundation.org.uk
X-WR-CALDESC:Events for Prospects
BEGIN:VTIMEZONE
TZID:Europe/London
BEGIN:DAYLIGHT
TZOFFSETFROM:+0000
TZOFFSETTO:+0100
TZNAME:BST
DTSTART:20210328T010000
END:DAYLIGHT
BEGIN:STANDARD
TZOFFSETFROM:+0100
TZOFFSETTO:+0000
TZNAME:GMT
DTSTART:20211031T010000
END:STANDARD
END:VTIMEZONE
BEGIN:VEVENT
DTSTART;TZID=Europe/London:20211130T100000
DTEND;TZID=Europe/London:20211130T150000
DTSTAMP:20260422T182114
CREATED:20210924T124318Z
LAST-MODIFIED:20210924T124318Z
UID:5743-1638266400-1638284400@prospectsfoundation.org.uk
SUMMARY:Rewilding - Winter woodwork
DESCRIPTION:Join Gareth and the Rewilding volunteers at our workshop at Oakhill Park to build wood based projects including; bird\, bee\, bat boxes\, planters raised bed flat packs and pallet wood projects! \nContact Gareth – gareth.muir@prospectsfoundation.org.uk to book your place and find out more! \nRewilding – Winter woodwork
URL:https://prospectsfoundation.org.uk/event/rewilding-winter-woodwork/
LOCATION:Oakhill Park\, Accrington BB5 2NY\, 113 Manchester Rd\, Accrington\, Lancashire\, BB5 2NY\, United Kingdom
CATEGORIES:Conservation,Traditional Crafts,Volunteering
ORGANIZER;CN="Gareth%20Muir%20-%20Rewilding%20Officer":MAILTO:gareth.muir@prospectsfoundation.org.uk
END:VEVENT
END:VCALENDAR