BEGIN:VCALENDAR
VERSION:2.0
PRODID:-//Prospects - ECPv5.14.1//NONSGML v1.0//EN
CALSCALE:GREGORIAN
METHOD:PUBLISH
X-WR-CALNAME:Prospects
X-ORIGINAL-URL:https://prospectsfoundation.org.uk
X-WR-CALDESC:Events for Prospects
BEGIN:VTIMEZONE
TZID:Europe/London
BEGIN:DAYLIGHT
TZOFFSETFROM:+0000
TZOFFSETTO:+0100
TZNAME:BST
DTSTART:20210328T010000
END:DAYLIGHT
BEGIN:STANDARD
TZOFFSETFROM:+0100
TZOFFSETTO:+0000
TZNAME:GMT
DTSTART:20211031T010000
END:STANDARD
END:VTIMEZONE
BEGIN:VEVENT
DTSTART;TZID=Europe/London:20211123T100000
DTEND;TZID=Europe/London:20211123T130000
DTSTAMP:20260422T150643
CREATED:20210924T123100Z
LAST-MODIFIED:20210924T123100Z
UID:5737-1637661600-1637672400@prospectsfoundation.org.uk
SUMMARY:Rewilding - Oakhill Park Incredible Edible Garden
DESCRIPTION:Join Gareth and the Rewilding volunteers to put the incredible edible garden to ‘bed’ for winter! \nTasks include; weeding\, mulching\, sowing green manure\, pruning fruit trees and soft fruit. \nContact Gareth – gareth.muir@prospectsfoundation.org.uk to book your place or for more information! \nRewilding – Oakhill Park Incredible Edible Garden
URL:https://prospectsfoundation.org.uk/event/rewilding-oakhill-park-incredible-edible-garden/
LOCATION:Oakhill Park\, Accrington BB5 2NY\, 113 Manchester Rd\, Accrington\, Lancashire\, BB5 2NY\, United Kingdom
CATEGORIES:Conservation,Food Growing,Gardening,Volunteering
ORGANIZER;CN="Gareth%20Muir%20-%20Rewilding%20Officer":MAILTO:gareth.muir@prospectsfoundation.org.uk
END:VEVENT
END:VCALENDAR