BEGIN:VCALENDAR
VERSION:2.0
PRODID:-//Prospects - ECPv5.14.1//NONSGML v1.0//EN
CALSCALE:GREGORIAN
METHOD:PUBLISH
X-WR-CALNAME:Prospects
X-ORIGINAL-URL:https://prospectsfoundation.org.uk
X-WR-CALDESC:Events for Prospects
BEGIN:VTIMEZONE
TZID:Europe/London
BEGIN:DAYLIGHT
TZOFFSETFROM:+0000
TZOFFSETTO:+0100
TZNAME:BST
DTSTART:20210328T010000
END:DAYLIGHT
BEGIN:STANDARD
TZOFFSETFROM:+0100
TZOFFSETTO:+0000
TZNAME:GMT
DTSTART:20211031T010000
END:STANDARD
END:VTIMEZONE
BEGIN:VEVENT
DTSTART;TZID=Europe/London:20211207T100000
DTEND;TZID=Europe/London:20211207T123000
DTSTAMP:20260422T121923
CREATED:20211011T131552Z
LAST-MODIFIED:20211130T152832Z
UID:6058-1638871200-1638880200@prospectsfoundation.org.uk
SUMMARY:Rewilding - GrOwING WILD community allotment
DESCRIPTION:Join Gareth and the Rewilding volunteers on Growing Wild Community allotment with a variety of gardening and conservation tasks! \nContact Gareth – gareth.muir@prospectsfoundation.org.uk to find out more and book your place. \nRewilding – GrOwING WILD community allotment
URL:https://prospectsfoundation.org.uk/event/rewilding-growing-wild-community-allotment/
LOCATION:GrOwING WILD Community Allotment\, Hill Street\, Baxenden\, BB5 2RB\, United Kingdom
CATEGORIES:Food Growing,Gardening,Volunteering
ORGANIZER;CN="Gareth%20Muir%20-%20Rewilding%20Officer":MAILTO:gareth.muir@prospectsfoundation.org.uk
END:VEVENT
END:VCALENDAR