BEGIN:VCALENDAR
VERSION:2.0
PRODID:-//Prospects - ECPv5.14.1//NONSGML v1.0//EN
CALSCALE:GREGORIAN
METHOD:PUBLISH
X-WR-CALNAME:Prospects
X-ORIGINAL-URL:https://prospectsfoundation.org.uk
X-WR-CALDESC:Events for Prospects
BEGIN:VTIMEZONE
TZID:Europe/London
BEGIN:DAYLIGHT
TZOFFSETFROM:+0000
TZOFFSETTO:+0100
TZNAME:BST
DTSTART:20190331T010000
END:DAYLIGHT
BEGIN:STANDARD
TZOFFSETFROM:+0100
TZOFFSETTO:+0000
TZNAME:GMT
DTSTART:20191027T010000
END:STANDARD
END:VTIMEZONE
BEGIN:VEVENT
DTSTART;TZID=Europe/London:20191208T080000
DTEND;TZID=Europe/London:20191208T170000
DTSTAMP:20260422T222810
CREATED:20191125T140417Z
LAST-MODIFIED:20191125T141055Z
UID:2267-1575792000-1575824400@prospectsfoundation.org.uk
SUMMARY:PRIESTLEY CLOUGH LEAKY DAM BUILDING
DESCRIPTION:Come and make some leaky dams to help control the flow of water into Priestley Clough. \nMeeting point to be confirmed. All tools will be provided.  Please bring lunch to keep you going and a pair of wellies. \nPlaces must be booked in advance.  email admin@ribbletrust.com or ring 01200 444452 and ask for Charlotte or Helen for more information. \nPRIESTLEY CLOUGH LEAKY DAM BUILDING
URL:https://prospectsfoundation.org.uk/event/priestley-clough-leaky-dam-building/
CATEGORIES:Conservation,Volunteering
END:VEVENT
END:VCALENDAR