BEGIN:VCALENDAR
VERSION:2.0
PRODID:-//Prospects - ECPv5.14.1//NONSGML v1.0//EN
CALSCALE:GREGORIAN
METHOD:PUBLISH
X-WR-CALNAME:Prospects
X-ORIGINAL-URL:https://prospectsfoundation.org.uk
X-WR-CALDESC:Events for Prospects
BEGIN:VTIMEZONE
TZID:Europe/London
BEGIN:DAYLIGHT
TZOFFSETFROM:+0000
TZOFFSETTO:+0100
TZNAME:BST
DTSTART:20200329T010000
END:DAYLIGHT
BEGIN:STANDARD
TZOFFSETFROM:+0100
TZOFFSETTO:+0000
TZNAME:GMT
DTSTART:20201025T010000
END:STANDARD
END:VTIMEZONE
BEGIN:VEVENT
DTSTART;TZID=Europe/London:20200216T080000
DTEND;TZID=Europe/London:20200216T170000
DTSTAMP:20260422T185847
CREATED:20200127T155356Z
LAST-MODIFIED:20200128T162005Z
UID:2627-1581840000-1581872400@prospectsfoundation.org.uk
SUMMARY:PLANTATION ROAD POND VOLUNTEER DAY
DESCRIPTION:ENJOY NATURE – Plantation Road Pond Clean-up and and Weed Removal.  10.00am to 3.00pm. Over 18s only. \nMeet at  Arden Hall Gates\, Plantation Road BB5 6RU.  All tools will be provided.  Please bring lunch to keep you going and a pair of wellies. \nemail admin@ribbletrust.com or ring 01200 444452 and ask for Charlotte or Helen for more information or to let us know you’ll be coming. \n  \n \nPLANTATION ROAD POND VOLUNTEER DAY
URL:https://prospectsfoundation.org.uk/event/plantation-road-pond-volunteer-day/
CATEGORIES:Conservation,Volunteering
END:VEVENT
END:VCALENDAR