BEGIN:VCALENDAR
VERSION:2.0
PRODID:-//Prospects - ECPv5.14.1//NONSGML v1.0//EN
CALSCALE:GREGORIAN
METHOD:PUBLISH
X-WR-CALNAME:Prospects
X-ORIGINAL-URL:https://prospectsfoundation.org.uk
X-WR-CALDESC:Events for Prospects
BEGIN:VTIMEZONE
TZID:Europe/London
BEGIN:DAYLIGHT
TZOFFSETFROM:+0000
TZOFFSETTO:+0100
TZNAME:BST
DTSTART:20190331T010000
END:DAYLIGHT
BEGIN:STANDARD
TZOFFSETFROM:+0100
TZOFFSETTO:+0000
TZNAME:GMT
DTSTART:20191027T010000
END:STANDARD
END:VTIMEZONE
BEGIN:VEVENT
DTSTART;TZID=Europe/London:20191028T100000
DTEND;TZID=Europe/London:20191028T233000
DTSTAMP:20260423T064650
CREATED:20191016T155520Z
LAST-MODIFIED:20191016T155542Z
UID:1650-1572256800-1572305400@prospectsfoundation.org.uk
SUMMARY:PEDAL AWAY HYNDBURN
DESCRIPTION:PEDAL AWAY HYNDBURN –  Beginner/ Back in the Saddle rides every Monday.  For anyone needing to gain skills\, learn gears\, build confidence (& calf muscles!) and generally just wanting to have a fun ride.  Starting at 10am from the cycle hub on Eagle Street\, Accrington\n(opposite Tesco).    We’ve got bikes\, helmets\, ride leaders and a big\, warm welcome.  If you’re thinking of coming along; just do it.  Nick and Nancy will be there to help get you cycling.  Bikes and helmets available or you can bring your own.  Supported by The PROSPECTS Foundation and a grant from the  Windfall Fund.  £1 donation.  Please phone  Nancy on 07469148245 \nhttps://cycling.org.uk/locations/hyndburn-pedal-away \nPedal Away – Coming Soon to Ossie Mills \nPEDAL AWAY HYNDBURN
URL:https://prospectsfoundation.org.uk/event/pedal-away-hyndburn-3/
END:VEVENT
END:VCALENDAR