BEGIN:VCALENDAR
VERSION:2.0
PRODID:-//Prospects - ECPv5.14.1//NONSGML v1.0//EN
CALSCALE:GREGORIAN
METHOD:PUBLISH
X-WR-CALNAME:Prospects
X-ORIGINAL-URL:https://prospectsfoundation.org.uk
X-WR-CALDESC:Events for Prospects
BEGIN:VTIMEZONE
TZID:Europe/London
BEGIN:DAYLIGHT
TZOFFSETFROM:+0000
TZOFFSETTO:+0100
TZNAME:BST
DTSTART:20210328T010000
END:DAYLIGHT
BEGIN:STANDARD
TZOFFSETFROM:+0100
TZOFFSETTO:+0000
TZNAME:GMT
DTSTART:20211031T010000
END:STANDARD
END:VTIMEZONE
BEGIN:VEVENT
DTSTART;TZID=Europe/London:20211006T100000
DTEND;TZID=Europe/London:20211006T150000
DTSTAMP:20260422T163336
CREATED:20210913T125248Z
LAST-MODIFIED:20210930T153924Z
UID:5644-1633514400-1633532400@prospectsfoundation.org.uk
SUMMARY:Hyndburn's Woodlands - Oakhill Park woodland workshop
DESCRIPTION:Join Gareth for a woodwork session at our workshop to make trestle tables and saw horse for the upcoming training courses. \nContact Gareth – gareth.muir@prospectsfoundation.org.uk to book your place and find out more! \nHyndburn’s Woodlands – Oakhill Park woodland workshop
URL:https://prospectsfoundation.org.uk/event/oakhillpark-woodland-workshop/
LOCATION:Huncoats woodland
CATEGORIES:Conservation,Traditional Crafts,Volunteering,Woodlands
ORGANIZER;CN="Gareth%20Muir%20-%20Woodlands%20Officer":MAILTO:gareth.muir@prospectsfoundation.org.uk
END:VEVENT
END:VCALENDAR