BEGIN:VCALENDAR
VERSION:2.0
PRODID:-//Prospects - ECPv5.14.1//NONSGML v1.0//EN
CALSCALE:GREGORIAN
METHOD:PUBLISH
X-WR-CALNAME:Prospects
X-ORIGINAL-URL:https://prospectsfoundation.org.uk
X-WR-CALDESC:Events for Prospects
BEGIN:VTIMEZONE
TZID:Europe/London
BEGIN:DAYLIGHT
TZOFFSETFROM:+0000
TZOFFSETTO:+0100
TZNAME:BST
DTSTART:20220327T010000
END:DAYLIGHT
BEGIN:STANDARD
TZOFFSETFROM:+0100
TZOFFSETTO:+0000
TZNAME:GMT
DTSTART:20221030T010000
END:STANDARD
END:VTIMEZONE
BEGIN:VEVENT
DTSTART;TZID=Europe/London:20220222T100000
DTEND;TZID=Europe/London:20220222T123000
DTSTAMP:20260423T022420
CREATED:20220117T132052Z
LAST-MODIFIED:20220117T132052Z
UID:6546-1645524000-1645533000@prospectsfoundation.org.uk
SUMMARY:Oakhill Park- Rewilding
DESCRIPTION:Join Gareth and the Rewilding volunteers for nature friendly gardening at Oakhill Park! This month will see the group preparing for the growing season ahead by clearning pots and tools\, as well as sorting & sowing seeds! \nContact Gareth – gareth.muir@prospectsfoundation.org.uk to get involved or for more information… \nOakhill Park- Rewilding
URL:https://prospectsfoundation.org.uk/event/oakhill-park-rewilding/
LOCATION:Oakhill Park\, Accrington BB5 2NY\, 113 Manchester Rd\, Accrington\, Lancashire\, BB5 2NY\, United Kingdom
CATEGORIES:Conservation,Food Growing,Volunteering
ORGANIZER;CN="Gareth%20Muir%20-%20Rewilding%20Officer":MAILTO:gareth.muir@prospectsfoundation.org.uk
END:VEVENT
END:VCALENDAR