BEGIN:VCALENDAR
VERSION:2.0
PRODID:-//Prospects - ECPv5.14.1//NONSGML v1.0//EN
CALSCALE:GREGORIAN
METHOD:PUBLISH
X-WR-CALNAME:Prospects
X-ORIGINAL-URL:https://prospectsfoundation.org.uk
X-WR-CALDESC:Events for Prospects
BEGIN:VTIMEZONE
TZID:Europe/London
BEGIN:DAYLIGHT
TZOFFSETFROM:+0000
TZOFFSETTO:+0100
TZNAME:BST
DTSTART:20220327T010000
END:DAYLIGHT
BEGIN:STANDARD
TZOFFSETFROM:+0100
TZOFFSETTO:+0000
TZNAME:GMT
DTSTART:20221030T010000
END:STANDARD
END:VTIMEZONE
BEGIN:VEVENT
DTSTART;TZID=Europe/London:20220322T100000
DTEND;TZID=Europe/London:20220322T123000
DTSTAMP:20260422T205119
CREATED:20220218T111111Z
LAST-MODIFIED:20220218T111111Z
UID:6737-1647943200-1647952200@prospectsfoundation.org.uk
SUMMARY:Oakhill Park Incredible Edible Garden - Rewilding
DESCRIPTION:Join Gareth and the Rewilding Volunteers at Oakhill Park\, Incredible Edible Garden! \nThis month’s tasks include; fruit tree/bush planting\, composting\, mulching and seed sowing! \nContact Gareth – gareth.muir@prospectsfoundation.org.uk to book a place or to find out more! \nOakhill Park Incredible Edible Garden – Rewilding
URL:https://prospectsfoundation.org.uk/event/oakhill-park-incredible-edible-garden-rewilding/
LOCATION:Oakhill Park\, Accrington BB5 2NY\, 113 Manchester Rd\, Accrington\, Lancashire\, BB5 2NY\, United Kingdom
CATEGORIES:Conservation,Food Growing,Gardening,Volunteering
ORGANIZER;CN="Gareth%20Muir%20-%20Rewilding%20Officer":MAILTO:gareth.muir@prospectsfoundation.org.uk
END:VEVENT
END:VCALENDAR