BEGIN:VCALENDAR
VERSION:2.0
PRODID:-//Prospects - ECPv5.14.1//NONSGML v1.0//EN
CALSCALE:GREGORIAN
METHOD:PUBLISH
X-WR-CALNAME:Prospects
X-ORIGINAL-URL:https://prospectsfoundation.org.uk
X-WR-CALDESC:Events for Prospects
BEGIN:VTIMEZONE
TZID:Europe/London
BEGIN:DAYLIGHT
TZOFFSETFROM:+0000
TZOFFSETTO:+0100
TZNAME:BST
DTSTART:20250330T010000
END:DAYLIGHT
BEGIN:STANDARD
TZOFFSETFROM:+0100
TZOFFSETTO:+0000
TZNAME:GMT
DTSTART:20251026T010000
END:STANDARD
END:VTIMEZONE
BEGIN:VEVENT
DTSTART;VALUE=DATE:20250722
DTEND;VALUE=DATE:20250723
DTSTAMP:20260419T192844
CREATED:20250627T143814Z
LAST-MODIFIED:20250627T143814Z
UID:14797-1753142400-1753228799@prospectsfoundation.org.uk
SUMMARY:No Session - Hyndburn's Woodlands
DESCRIPTION:There is no Hyndburn’s Woodlands Volunteering session on this week\, this is due to myself being away on Annual Leave. Regular sessions will resume the following week. \nNo Session – Hyndburn’s Woodlands
URL:https://prospectsfoundation.org.uk/event/no-session-hyndburns-woodlands-4/
LOCATION:Warcocks Green\, Haslingden Old Road/Sough Lane\, Oswaldtwistle\, Lancashire\, BB5 3RG\, United Kingdom
CATEGORIES:Conservation,Health and wellbeing,Volunteering,Woodlands
ATTACH;FMTTYPE=image/jpeg:https://prospectsfoundation.org.uk/wp-content/uploads/2025/04/IMG_20240730_131910.jpg
ORGANIZER;CN="Brandon%20Cherry":MAILTO:brandon.cherry@prospectsfoundation.org.uk
END:VEVENT
END:VCALENDAR