BEGIN:VCALENDAR
VERSION:2.0
PRODID:-//Prospects - ECPv5.14.1//NONSGML v1.0//EN
CALSCALE:GREGORIAN
METHOD:PUBLISH
X-WR-CALNAME:Prospects
X-ORIGINAL-URL:https://prospectsfoundation.org.uk
X-WR-CALDESC:Events for Prospects
BEGIN:VTIMEZONE
TZID:Europe/London
BEGIN:DAYLIGHT
TZOFFSETFROM:+0000
TZOFFSETTO:+0100
TZNAME:BST
DTSTART:20250330T010000
END:DAYLIGHT
BEGIN:STANDARD
TZOFFSETFROM:+0100
TZOFFSETTO:+0000
TZNAME:GMT
DTSTART:20251026T010000
END:STANDARD
END:VTIMEZONE
BEGIN:VEVENT
DTSTART;VALUE=DATE:20250304
DTEND;VALUE=DATE:20250305
DTSTAMP:20260423T003628
CREATED:20250227T102607Z
LAST-MODIFIED:20250227T102708Z
UID:13970-1741046400-1741132799@prospectsfoundation.org.uk
SUMMARY:No Session - Hyndburn's Woodlands
DESCRIPTION:There will be no Hyndburn’s Woodlands Volunteering session on Tuesday 4th March 2025\, this is due to myself being away on training that week. \nRegular sessions will resume Tuesday 11th March. Thank you all \nBest wishes \nBrandon \nNo Session – Hyndburn’s Woodlands
URL:https://prospectsfoundation.org.uk/event/no-session-hyndburns-woodlands-2/
LOCATION:Huncoat East Woodland\, 27 Altham Lane\, Accrington\, Lancashire\, BB5 5UR\, United Kingdom
CATEGORIES:Volunteering,Woodlands
ORGANIZER;CN="Brandon%20Cherry":MAILTO:brandon.cherry@prospectsfoundation.org.uk
END:VEVENT
END:VCALENDAR