BEGIN:VCALENDAR
VERSION:2.0
PRODID:-//Prospects - ECPv5.14.1//NONSGML v1.0//EN
CALSCALE:GREGORIAN
METHOD:PUBLISH
X-WR-CALNAME:Prospects
X-ORIGINAL-URL:https://prospectsfoundation.org.uk
X-WR-CALDESC:Events for Prospects
BEGIN:VTIMEZONE
TZID:Europe/London
BEGIN:DAYLIGHT
TZOFFSETFROM:+0000
TZOFFSETTO:+0100
TZNAME:BST
DTSTART:20230326T010000
END:DAYLIGHT
BEGIN:STANDARD
TZOFFSETFROM:+0100
TZOFFSETTO:+0000
TZNAME:GMT
DTSTART:20231029T010000
END:STANDARD
END:VTIMEZONE
BEGIN:VEVENT
DTSTART;TZID=Europe/London:20230128T100000
DTEND;TZID=Europe/London:20230128T113000
DTSTAMP:20260425T185542
CREATED:20230105T143425Z
LAST-MODIFIED:20230105T143425Z
UID:8805-1674900000-1674905400@prospectsfoundation.org.uk
SUMMARY:New Year's Walks - Peel Park and the Coppice LNR
DESCRIPTION:Are you looking to keep fit this New Year? Have you resolved to explore nature and meet new people? Then come on a weekly wellbeing walk with Prospects Foundation at Peel Park and the Coppice LNR!  \nChildren and well-behaved dogs are welcome! Under 18s must be accompanied by an adult. \nEmail to book:\nrobert.gabryszak@prospectsfoundation.org.uk \nDate: Saturday 28th January\nTime:  10am – 11:30am\nLocation: Peel Park and the Coppice LNR\, meet in the Bowling Green Car Park \nNew Year’s Walks – Peel Park and the Coppice LNR
URL:https://prospectsfoundation.org.uk/event/new-years-walks-peel-park-and-the-coppice-lnr-2/
LOCATION:Peel Park and the Coppice Local Nature Reserve\, Main car park off Peel Park Avenue (next to the bowling green)\, Accrington\, Lancashire\, BB5 6HL\, United Kingdom
CATEGORIES:Conservation,Health and wellbeing,Peel Park and the Coppice LNR,Volunteering
ATTACH;FMTTYPE=image/png:https://prospectsfoundation.org.uk/wp-content/uploads/2023/01/Janurary-Posters-Instagram-Post-Square-1.png
ORGANIZER;CN="Robert%20Gabryszak%20-%20LNR%20Project%20Officer":MAILTO:robert.gabryszak@prospectsfoundation.org.uk
END:VEVENT
END:VCALENDAR