BEGIN:VCALENDAR
VERSION:2.0
PRODID:-//Prospects - ECPv5.14.1//NONSGML v1.0//EN
CALSCALE:GREGORIAN
METHOD:PUBLISH
X-WR-CALNAME:Prospects
X-ORIGINAL-URL:https://prospectsfoundation.org.uk
X-WR-CALDESC:Events for Prospects
BEGIN:VTIMEZONE
TZID:Europe/London
BEGIN:DAYLIGHT
TZOFFSETFROM:+0000
TZOFFSETTO:+0100
TZNAME:BST
DTSTART:20240331T010000
END:DAYLIGHT
BEGIN:STANDARD
TZOFFSETFROM:+0100
TZOFFSETTO:+0000
TZNAME:GMT
DTSTART:20241027T010000
END:STANDARD
END:VTIMEZONE
BEGIN:VEVENT
DTSTART;TZID=Europe/London:20241128T100000
DTEND;TZID=Europe/London:20241128T150000
DTSTAMP:20260421T145142
CREATED:20241028T160723Z
LAST-MODIFIED:20241028T160723Z
UID:13028-1732788000-1732806000@prospectsfoundation.org.uk
SUMMARY:New Allotment - Hyndburn's Woodlands
DESCRIPTION:Join Hyndburn’s Woodlands Officer Brandon for weekly practical conservation sessions. This week\, we will be assisting the TreeACTION Officer with The PROSPECTS Foundation’s newest site! The allotment is scheduled to become a tree nursery\, to grow local stock for future tree planting schemes. \n\nTasks include using hand tools to clear the paths and flagstones from encroaching vegetation. Secondary tasks may include laying down wood chip on the cleared pathways. \n\nTools\, gloves and PPE will be provided. Please wear sturdy boots\, long sleeves and full length trousers as we may be working around brambles and nettles. Waterproofs may be needed\, depending on the weather. \nWe will be meeting at the end of Miller Fold Avenue\, BB5 0NT. Staff will be in orange hi-vis. There is parking available in the small car park. \nTo find out more or confirm your attendance\, please contact Brandon at brandon.cherry@prospectsfoundation.org.uk or 07733 840842 \n\nNew Allotment – Hyndburn’s Woodlands
URL:https://prospectsfoundation.org.uk/event/new-allotment-hyndburns-woodlands/
LOCATION:Miller Fold Allotment\, Miller Fold Ave\, Accrington\, BB5 0NT\, United Kingdom
CATEGORIES:Health and wellbeing,Volunteering,Woodlands
ATTACH;FMTTYPE=image/jpeg:https://prospectsfoundation.org.uk/wp-content/uploads/2024/10/IMG_20240102_100842.jpg
ORGANIZER;CN="Brandon%20Cherry":MAILTO:brandon.cherry@prospectsfoundation.org.uk
END:VEVENT
END:VCALENDAR