BEGIN:VCALENDAR
VERSION:2.0
PRODID:-//Prospects - ECPv5.14.1//NONSGML v1.0//EN
CALSCALE:GREGORIAN
METHOD:PUBLISH
X-WR-CALNAME:Prospects
X-ORIGINAL-URL:https://prospectsfoundation.org.uk
X-WR-CALDESC:Events for Prospects
BEGIN:VTIMEZONE
TZID:Europe/London
BEGIN:DAYLIGHT
TZOFFSETFROM:+0000
TZOFFSETTO:+0100
TZNAME:BST
DTSTART:20210328T010000
END:DAYLIGHT
BEGIN:STANDARD
TZOFFSETFROM:+0100
TZOFFSETTO:+0000
TZNAME:GMT
DTSTART:20211031T010000
END:STANDARD
END:VTIMEZONE
BEGIN:VEVENT
DTSTART;TZID=Europe/London:20210914T130000
DTEND;TZID=Europe/London:20210914T150000
DTSTAMP:20260422T200252
CREATED:20210907T122227Z
LAST-MODIFIED:20210907T122227Z
UID:5613-1631624400-1631631600@prospectsfoundation.org.uk
SUMMARY:Myplace Community Day
DESCRIPTION:Myplace is a wellbeing project aimed at connecting people with nature.  The Myplace hub at Miller Fold Allotment\, Accrington is welcoming the people wanting to learn more about food growing\, bushcraft\, nature walks\, practical conservation and mindfulness.  There are 2 community days happening in September.  The second is Gardening Fun at Miller Fold Allotment. \nEvent:  Community Day – Gardening Fun! \nDate:  Tues 14th September \nTime:  1pm-3pm \nLocation:  Miller Fold Allotments\, Miller Fold Ave\, Accrington BB5 0NT \nWhat3words:  food.cookies.master \nFor more information\, email Rebecca at rwitcombe@lancswt.org.uk or ring 07717366816 \nThere is building work going on in the area but the site is still accessible\, if you can’t find the event\, give Rebecca a ring.\n \nMyplace Community Day
URL:https://prospectsfoundation.org.uk/event/myplace-community-day-2/
LOCATION:Miller Fold Allotment\, Miller Fold Ave\, Accrington\, BB5 0NT\, United Kingdom
END:VEVENT
END:VCALENDAR