BEGIN:VCALENDAR
VERSION:2.0
PRODID:-//Prospects - ECPv5.14.1//NONSGML v1.0//EN
CALSCALE:GREGORIAN
METHOD:PUBLISH
X-WR-CALNAME:Prospects
X-ORIGINAL-URL:https://prospectsfoundation.org.uk
X-WR-CALDESC:Events for Prospects
BEGIN:VTIMEZONE
TZID:Europe/London
BEGIN:DAYLIGHT
TZOFFSETFROM:+0000
TZOFFSETTO:+0100
TZNAME:BST
DTSTART:20240331T010000
END:DAYLIGHT
BEGIN:STANDARD
TZOFFSETFROM:+0100
TZOFFSETTO:+0000
TZNAME:GMT
DTSTART:20241027T010000
END:STANDARD
END:VTIMEZONE
BEGIN:VEVENT
DTSTART;TZID=Europe/London:20240906T200000
DTEND;TZID=Europe/London:20240906T213000
DTSTAMP:20260419T175633
CREATED:20240830T170500Z
LAST-MODIFIED:20240830T170515Z
UID:12582-1725652800-1725658200@prospectsfoundation.org.uk
SUMMARY:Moth Night (September 2024) at Peel Park and the Coppice LNR
DESCRIPTION:Join us on Friday 6th September @8pm for our Moth Night! We will be going on stroll through Pleck Meadow to hunt for moths (and other nighttime critters!) at dusk and set up our Moth Trap. In the morning we will meet at 9am in the Peel Park Car Park to see what we’ve caught and then release the moths unharmed. \nMeet at 8:00pm at the Peel Park & the Coppice Car Park. \nSuitable for families\, adult supervision is required for under 18s. Well-behaved dogs considered\, please contact Robert for more details. \nMoth Morning: Friday 9th August\nTime: 8pm – 9:30pm\nMeeting point: Peel Park & the Coppice Car Park (RED STAR) \nContact Robert:\nrobert.gabryszak@prospectsfoundation.org.uk or call 01254 230348 (ext. 208) to find out more. \n  \nMoth Night (September 2024) at Peel Park and the Coppice LNR
URL:https://prospectsfoundation.org.uk/event/moth-night-september-2024-at-peel-park-and-the-coppice-lnr/
LOCATION:Peel Park and the Coppice Local Nature Reserve\, Main car park off Peel Park Avenue (next to the bowling green)\, Accrington\, Lancashire\, BB5 6HL\, United Kingdom
CATEGORIES:Family,Health and wellbeing,Outdoor Learning,Peel Park and the Coppice LNR,Walking
ATTACH;FMTTYPE=image/jpeg:https://prospectsfoundation.org.uk/wp-content/uploads/2024/08/73.012-20240810-Burnished-Brass-f.aurea_.jpg
ORGANIZER;CN="Robert%20Gabryszak%20-%20LNR%20Project%20Officer":MAILTO:robert.gabryszak@prospectsfoundation.org.uk
END:VEVENT
END:VCALENDAR