BEGIN:VCALENDAR
VERSION:2.0
PRODID:-//Prospects - ECPv5.14.1//NONSGML v1.0//EN
CALSCALE:GREGORIAN
METHOD:PUBLISH
X-WR-CALNAME:Prospects
X-ORIGINAL-URL:https://prospectsfoundation.org.uk
X-WR-CALDESC:Events for Prospects
BEGIN:VTIMEZONE
TZID:Europe/London
BEGIN:DAYLIGHT
TZOFFSETFROM:+0000
TZOFFSETTO:+0100
TZNAME:BST
DTSTART:20230326T010000
END:DAYLIGHT
BEGIN:STANDARD
TZOFFSETFROM:+0100
TZOFFSETTO:+0000
TZNAME:GMT
DTSTART:20231029T010000
END:STANDARD
END:VTIMEZONE
BEGIN:VEVENT
DTSTART;TZID=Europe/London:20230818T210000
DTEND;TZID=Europe/London:20230818T230000
DTSTAMP:20260425T203733
CREATED:20230727T145028Z
LAST-MODIFIED:20230727T145252Z
UID:10222-1692392400-1692399600@prospectsfoundation.org.uk
SUMMARY:Moth Night (August) at Peel Park and the Coppice LNR
DESCRIPTION:Join us for a monthly moth night at Peel Park and the Coppice LNR with our fifth session on 18th August 2023! \nWe will be setting up a moth light trap and looking for moths with torches! Come to the morning session at 9am the next day to see what has been collected. \nTo book a place email robert.gabryszak@prospectsfoundation.org.uk\, telephone 01254 230348 or call into the Prospects office at 54 Broadway\, Accrington. \nMoth Night (August) at Peel Park and the Coppice LNR
URL:https://prospectsfoundation.org.uk/event/moth-night-july-at-peel-park-and-the-coppice-lnr-2/
LOCATION:Peel Park and the Coppice Local Nature Reserve\, Main car park off Peel Park Avenue (next to the bowling green)\, Accrington\, Lancashire\, BB5 6HL\, United Kingdom
CATEGORIES:Family,Health and wellbeing,Outdoor Learning,Peel Park and the Coppice LNR,Walking
ATTACH;FMTTYPE=image/png:https://prospectsfoundation.org.uk/wp-content/uploads/2023/07/3.png
ORGANIZER;CN="Gemma%20McMullan":MAILTO:gemma.mcmullan@prospectsfoundation.org.uk
END:VEVENT
END:VCALENDAR