BEGIN:VCALENDAR
VERSION:2.0
PRODID:-//Prospects - ECPv5.14.1//NONSGML v1.0//EN
CALSCALE:GREGORIAN
METHOD:PUBLISH
X-WR-CALNAME:Prospects
X-ORIGINAL-URL:https://prospectsfoundation.org.uk
X-WR-CALDESC:Events for Prospects
BEGIN:VTIMEZONE
TZID:Europe/London
BEGIN:DAYLIGHT
TZOFFSETFROM:+0000
TZOFFSETTO:+0100
TZNAME:BST
DTSTART:20250330T010000
END:DAYLIGHT
BEGIN:STANDARD
TZOFFSETFROM:+0100
TZOFFSETTO:+0000
TZNAME:GMT
DTSTART:20251026T010000
END:STANDARD
END:VTIMEZONE
BEGIN:VEVENT
DTSTART;TZID=Europe/London:20250705T090000
DTEND;TZID=Europe/London:20250705T100000
DTSTAMP:20260420T080959
CREATED:20250610T110031Z
LAST-MODIFIED:20250610T110031Z
UID:14592-1751706000-1751709600@prospectsfoundation.org.uk
SUMMARY:Moth Morning (July 2025) @Jackhouse (Followed by Balsam Bashing)
DESCRIPTION:Join us on Saturday 5th July @9am for a Moth Morning at Jackhouse nature reserve. \nDuring the session we will be looking at moths that have collected in our moth trap overnight. This is a great chance to see a wide array of wacky and wonderful moths. We will then release all the moths at the end of the session so that they can continue doing their important job of pollinating and feeding other local wildlife. \nRobert will then be balsam bashing after the event until 1pm. \nSuitable for families\, adult supervision is required for under 18s. Well-behaved dogs considered\, please contact Robert for more details. \nMoth Morning: Saturday 5th July\nTime: 9am – 10am\nMeeting point: Jackhouse nature reserve entrance. \n Please park on Broadfield/Fielding Lane and walk down to the entrance. There is ONE disabled parking spot next to the entrance\, please only use if required. \nContact Robert to register interest or for more info!\nrobert.gabryszak@prospectsfoundation.org.uk or call 01254 230348 (ext. 208) to find out more. \n  \nMoth Morning (July 2025) @Jackhouse (Followed by Balsam Bashing)
URL:https://prospectsfoundation.org.uk/event/moth-morning-july-2025-jackhouse-followed-by-balsam-bashing/
LOCATION:Jackhouse Nature Reserve\, Pot House Lane\, Oswaldtwistle\, BB5 3RS
CATEGORIES:Family,Health and wellbeing,Outdoor Learning,Peel Park and the Coppice LNR,Walking
ATTACH;FMTTYPE=image/jpeg:https://prospectsfoundation.org.uk/wp-content/uploads/2025/05/73.016-20240615-Beautiful-Golden-Y-e1748605149669.jpg
ORGANIZER;CN="Robert%20Gabryszak%20-%20LNR%20Project%20Officer":MAILTO:robert.gabryszak@prospectsfoundation.org.uk
END:VEVENT
END:VCALENDAR