BEGIN:VCALENDAR
VERSION:2.0
PRODID:-//Prospects - ECPv5.14.1//NONSGML v1.0//EN
CALSCALE:GREGORIAN
METHOD:PUBLISH
X-WR-CALNAME:Prospects
X-ORIGINAL-URL:https://prospectsfoundation.org.uk
X-WR-CALDESC:Events for Prospects
BEGIN:VTIMEZONE
TZID:Europe/London
BEGIN:DAYLIGHT
TZOFFSETFROM:+0000
TZOFFSETTO:+0100
TZNAME:BST
DTSTART:20240331T010000
END:DAYLIGHT
BEGIN:STANDARD
TZOFFSETFROM:+0100
TZOFFSETTO:+0000
TZNAME:GMT
DTSTART:20241027T010000
END:STANDARD
END:VTIMEZONE
BEGIN:VEVENT
DTSTART;TZID=Europe/London:20240319T100000
DTEND;TZID=Europe/London:20240319T130000
DTSTAMP:20260421T173916
CREATED:20240229T120517Z
LAST-MODIFIED:20240229T120848Z
UID:11507-1710842400-1710853200@prospectsfoundation.org.uk
SUMMARY:Woodnook Community Garden spring cleaning
DESCRIPTION:Join us for some sustainable food growing on our community garden. Every Tuesday 10am to 1pm. \nWe will spring clean the area and prepare the beds for planting. \nPlease wear warm\, weather appropriate clothing and robust footwear. Refreshments will be provided. Everyone welcome. \nContact Sonja sonja.bottomer@prospectsfoundation.org.uk or phone 01254 230348 to get involved or to find out more. \n  \n  \nWoodnook Community Garden spring cleaning
URL:https://prospectsfoundation.org.uk/event/miller-fold-allotment-session-12/
LOCATION:Woodnook Community Garden\, Belfield Road\, Accrington
CATEGORIES:Conservation,Food Growing,Gardening,Volunteering
ATTACH;FMTTYPE=image/jpeg:https://prospectsfoundation.org.uk/wp-content/uploads/2024/02/IMG_20240213_112252-scaled.jpg
ORGANIZER;CN="Sonja%20Bottomer":MAILTO:sonja.bottomer@prospectsfoundation.org.uk
END:VEVENT
END:VCALENDAR