BEGIN:VCALENDAR
VERSION:2.0
PRODID:-//Prospects - ECPv5.14.1//NONSGML v1.0//EN
CALSCALE:GREGORIAN
METHOD:PUBLISH
X-WR-CALNAME:Prospects
X-ORIGINAL-URL:https://prospectsfoundation.org.uk
X-WR-CALDESC:Events for Prospects
BEGIN:VTIMEZONE
TZID:Europe/London
BEGIN:DAYLIGHT
TZOFFSETFROM:+0000
TZOFFSETTO:+0100
TZNAME:BST
DTSTART:20220327T010000
END:DAYLIGHT
BEGIN:STANDARD
TZOFFSETFROM:+0100
TZOFFSETTO:+0000
TZNAME:GMT
DTSTART:20221030T010000
END:STANDARD
END:VTIMEZONE
BEGIN:VEVENT
DTSTART;TZID=Europe/London:20220705T100000
DTEND;TZID=Europe/London:20220705T123000
DTSTAMP:20260422T145412
CREATED:20220620T102715Z
LAST-MODIFIED:20220620T102715Z
UID:7398-1657015200-1657024200@prospectsfoundation.org.uk
SUMMARY:Miller Fold Allotment - Rewilding
DESCRIPTION:Join Gareth and the Rewilding Volunteers at Miller Fold Allotment for a spot of gardening! \nTasks will include; seed sowing\, composting and vegetable growing! \nTo get involved or for more information contact Gareth – gareth.muir@prospectsfoundation.org.uk or phone 01254 230348 \nMiller Fold Allotment – Rewilding
URL:https://prospectsfoundation.org.uk/event/miller-fold-allotment-rewilding-7/
LOCATION:Miller Fold Allotment\, Miller Fold Ave\, Accrington\, BB5 0NT\, United Kingdom
CATEGORIES:Conservation,Food Growing,Gardening,Volunteering,Woodlands
ORGANIZER;CN="Gareth%20Muir%20-%20Rewilding%20Officer":MAILTO:gareth.muir@prospectsfoundation.org.uk
END:VEVENT
END:VCALENDAR