BEGIN:VCALENDAR
VERSION:2.0
PRODID:-//Prospects - ECPv5.14.1//NONSGML v1.0//EN
CALSCALE:GREGORIAN
METHOD:PUBLISH
X-WR-CALNAME:Prospects
X-ORIGINAL-URL:https://prospectsfoundation.org.uk
X-WR-CALDESC:Events for Prospects
BEGIN:VTIMEZONE
TZID:Europe/London
BEGIN:DAYLIGHT
TZOFFSETFROM:+0000
TZOFFSETTO:+0100
TZNAME:BST
DTSTART:20220327T010000
END:DAYLIGHT
BEGIN:STANDARD
TZOFFSETFROM:+0100
TZOFFSETTO:+0000
TZNAME:GMT
DTSTART:20221030T010000
END:STANDARD
END:VTIMEZONE
BEGIN:VEVENT
DTSTART;TZID=Europe/London:20220607T100000
DTEND;TZID=Europe/London:20220607T123000
DTSTAMP:20260422T110410
CREATED:20220520T104510Z
LAST-MODIFIED:20220520T104510Z
UID:7125-1654596000-1654605000@prospectsfoundation.org.uk
SUMMARY:Miller Fold Allotment  Rewilding
DESCRIPTION:Join Gareth and the Rewilding Volunteers at Miller Fold Allotment for a spot of gardening! \nTasks will include; seed sowing\, composting and vegetable growing! \nTo get involved or for more information contact Gareth – gareth.muir@prospectsfoundation.org.uk \nMiller Fold Allotment  Rewilding
URL:https://prospectsfoundation.org.uk/event/miller-fold-allotment-rewilding-6/
LOCATION:Miller Fold Allotment\, Miller Fold Ave\, Accrington\, BB5 0NT\, United Kingdom
CATEGORIES:Food Growing,Gardening,Health and wellbeing
ORGANIZER;CN="Gareth%20Muir%20-%20Rewilding%20Officer":MAILTO:gareth.muir@prospectsfoundation.org.uk
END:VEVENT
END:VCALENDAR