BEGIN:VCALENDAR
VERSION:2.0
PRODID:-//Prospects - ECPv5.14.1//NONSGML v1.0//EN
CALSCALE:GREGORIAN
METHOD:PUBLISH
X-WR-CALNAME:Prospects
X-ORIGINAL-URL:https://prospectsfoundation.org.uk
X-WR-CALDESC:Events for Prospects
BEGIN:VTIMEZONE
TZID:Europe/London
BEGIN:DAYLIGHT
TZOFFSETFROM:+0000
TZOFFSETTO:+0100
TZNAME:BST
DTSTART:20230326T010000
END:DAYLIGHT
BEGIN:STANDARD
TZOFFSETFROM:+0100
TZOFFSETTO:+0000
TZNAME:GMT
DTSTART:20231029T010000
END:STANDARD
END:VTIMEZONE
BEGIN:VEVENT
DTSTART;TZID=Europe/London:20230124T100000
DTEND;TZID=Europe/London:20230124T123000
DTSTAMP:20260426T012324
CREATED:20221219T103821Z
LAST-MODIFIED:20221219T103821Z
UID:8745-1674554400-1674563400@prospectsfoundation.org.uk
SUMMARY:Miller Fold Allotment 6a - Rewilding
DESCRIPTION:Join Gareth and the Rewilding Volunteers for a spot of Wildlife friendly Gardening! \nTasks will include; weeding\, watering\, composting and more… \nPlease wear weather appropriate clothing\, robust footwear and bring your own refreshments \nContact Gareth  gareth.muir@prospectsfoundation.org.uk or phone 01254 230348 to get involved or to find out more! \n \nMiller Fold Allotment 6a – Rewilding
URL:https://prospectsfoundation.org.uk/event/miller-fold-allotment-6a-rewilding/
LOCATION:Woodnook Community Garden\, Belfield Road\, Accrington
CATEGORIES:Conservation,Food Growing,Gardening,Volunteering
ORGANIZER;CN="Gareth%20Muir%20-%20Rewilding%20Officer":MAILTO:gareth.muir@prospectsfoundation.org.uk
END:VEVENT
END:VCALENDAR